Welcome to mirrors.dotsrc.org

All our mirrors of open source software are available via http, https, ftp and an onion service. More information about our mirrors including statistics and contact information is available on our mirror info pages.

For information about dotsrc.org and our other services please go to our website.

Index of /bioconductor/checkResults/1.7/bioc/Linux-i686/

File Name  ↓ File Size  ↓ Date  ↓ 
--
1.2 KiB2005-10-19 22:38:48
1.3 KiB2005-10-19 22:38:50
1.2 KiB2005-10-19 22:38:51
1.2 KiB2005-10-19 22:38:51
1.2 KiB2005-10-19 22:38:51
1.2 KiB2005-10-19 22:38:52
1.2 KiB2005-10-19 22:38:53
1.3 KiB2005-10-19 22:38:53
1.1 KiB2005-10-19 22:38:53
1.3 KiB2005-10-19 22:38:54
1.2 KiB2005-10-19 22:38:58
1.2 KiB2005-10-19 22:38:59
1.2 KiB2005-10-19 22:38:56
1.2 KiB2005-10-19 22:38:56
1.2 KiB2005-10-19 22:38:57
1.1 KiB2005-10-19 22:38:57
1.2 KiB2005-10-19 22:38:57
1.2 KiB2005-10-19 22:38:58
1.1 KiB2005-10-19 22:39:00
1.2 KiB2005-10-19 22:39:00
1.1 KiB2005-10-19 22:39:01
1.1 KiB2005-10-19 22:39:02
1.2 KiB2005-10-19 22:39:03
1.2 KiB2005-10-19 22:39:04
1.2 KiB2005-10-19 22:39:05
1.2 KiB2005-10-19 22:39:06
1.3 KiB2005-10-19 22:39:05
1.2 KiB2005-10-19 22:39:06
1.2 KiB2005-10-19 22:39:06
1.1 KiB2005-10-19 22:39:07
1.2 KiB2005-10-19 22:39:08
1.2 KiB2005-10-19 22:39:10
1.4 KiB2005-10-19 22:39:11
535 B2005-10-19 22:39:13
1.2 KiB2005-10-19 22:39:14
1.2 KiB2005-10-19 22:39:14
1.2 KiB2005-10-19 22:39:11
1.1 KiB2005-10-19 22:39:11
1.3 KiB2005-10-19 22:39:11
1.2 KiB2005-10-19 22:39:12
1.3 KiB2005-10-19 22:39:13
1.3 KiB2005-10-19 22:39:14
1.2 KiB2005-10-19 22:39:14
1.1 KiB2005-10-19 22:39:15
1.2 KiB2005-10-19 22:39:16
1.3 KiB2005-10-19 22:38:45
1.3 KiB2005-10-19 22:38:46
1.3 KiB2005-10-19 22:38:46
1.3 KiB2005-10-19 22:38:47
1.2 KiB2005-10-19 22:38:48
1.2 KiB2005-10-19 22:38:46
1.2 KiB2005-10-19 22:38:47
1.2 KiB2005-10-19 22:38:47
1.1 KiB2005-10-19 22:38:47
1.2 KiB2005-10-19 22:38:48
1.2 KiB2005-10-19 22:38:48
1.6 KiB2005-10-19 22:38:49
1.2 KiB2005-10-19 22:38:49
1.2 KiB2005-10-19 22:38:49
1.2 KiB2005-10-19 22:38:49
1.2 KiB2005-10-19 22:38:50
1.1 KiB2005-10-19 22:38:50
1.2 KiB2005-10-19 22:38:51
1.2 KiB2005-10-19 22:38:51
1.2 KiB2005-10-19 22:38:52
1.2 KiB2005-10-19 22:38:52
1.2 KiB2005-10-19 22:38:52
1.1 KiB2005-10-19 22:38:53
1.2 KiB2005-10-19 22:38:53
1.2 KiB2005-10-19 22:38:54
1.2 KiB2005-10-19 22:38:54
1.3 KiB2005-10-19 22:38:54
1.2 KiB2005-10-19 22:38:55
1.2 KiB2005-10-19 22:38:55
1.2 KiB2005-10-19 22:38:55
1.2 KiB2005-10-19 22:38:55
1.2 KiB2005-10-19 22:38:57
1.3 KiB2005-10-19 22:38:56
1.2 KiB2005-10-19 22:38:56
1.2 KiB2005-10-19 22:38:58
1.2 KiB2005-10-19 22:38:58
1.2 KiB2005-10-19 22:38:58
1.2 KiB2005-10-19 22:38:59
1.2 KiB2005-10-19 22:38:59
1.2 KiB2005-10-19 22:38:59
1.2 KiB2005-10-19 22:39:00
1.2 KiB2005-10-19 22:39:00
1.2 KiB2005-10-19 22:39:01
1.2 KiB2005-10-19 22:39:02
1.2 KiB2005-10-19 22:39:01
1.2 KiB2005-10-19 22:39:01
1.2 KiB2005-10-19 22:39:02
1.2 KiB2005-10-19 22:39:02
1.1 KiB2005-10-19 22:39:03
1.2 KiB2005-10-19 22:39:05
1.3 KiB2005-10-19 22:39:03
1.2 KiB2005-10-19 22:39:03
1.2 KiB2005-10-19 22:39:04
1.3 KiB2005-10-19 22:39:04
1.2 KiB2005-10-19 22:39:04
1.3 KiB2005-10-19 22:39:05
1.2 KiB2005-10-19 22:39:06
1.3 KiB2005-10-19 22:39:07
1.3 KiB2005-10-19 22:39:07
1.2 KiB2005-10-19 22:39:07
1.2 KiB2005-10-19 22:39:08
1.3 KiB2005-10-19 22:39:08
1.2 KiB2005-10-19 22:39:08
1.2 KiB2005-10-19 22:39:09
1.1 KiB2005-10-19 22:39:09
1.2 KiB2005-10-19 22:39:09
1.2 KiB2005-10-19 22:39:09
1.2 KiB2005-10-19 22:39:09
470 B2005-10-19 22:39:10
1.2 KiB2005-10-19 22:39:10
1.2 KiB2005-10-19 22:39:10
1.2 KiB2005-10-19 22:39:12
1.2 KiB2005-10-19 22:39:12
941 B2005-10-19 22:39:12
1.2 KiB2005-10-19 22:39:13
1.3 KiB2005-10-19 22:39:13
1.2 KiB2005-10-19 22:39:14
1.5 KiB2005-10-19 22:39:15
1.2 KiB2005-10-19 22:39:15
1.3 KiB2005-10-19 22:39:15
1.2 KiB2005-10-19 22:39:16
2.5 KiB2005-10-19 22:39:16
1.2 KiB2005-10-19 22:39:16
1.2 KiB2005-10-19 22:39:17
1.2 KiB2005-10-19 22:39:17
1.1 KiB2005-10-19 22:39:17
1.3 KiB2005-10-19 22:39:17
1.2 KiB2005-10-19 22:39:18
1.2 KiB2005-10-19 22:39:18
1.3 KiB2005-10-19 22:39:18
1.2 KiB2005-10-19 22:39:18
1.2 KiB2005-10-19 22:39:19
1.2 KiB2005-10-19 22:39:19
1.2 KiB2005-10-19 22:39:19
1.3 KiB2005-10-19 22:39:19