All our mirrors of open source software are available via http, https, ftp and an onion service. More information about our mirrors including statistics and contact information is available on our mirror info pages.
For information about dotsrc.org and our other services please go to our website.
| File Name ↓ | File Size ↓ | Date ↓ | 
|---|---|---|
| Parent directory/ | - | - | 
| AnnBuilder | 1.2 KiB | 2005-10-19 22:38:48 | 
| Biobase | 1.2 KiB | 2005-10-19 22:38:50 | 
| Biostrings | 1.2 KiB | 2005-10-19 22:38:51 | 
| Category | 1.2 KiB | 2005-10-19 22:38:51 | 
| ChromoViz | 1.2 KiB | 2005-10-19 22:38:51 | 
| CoCiteStats | 1.2 KiB | 2005-10-19 22:38:52 | 
| DEDS | 1.2 KiB | 2005-10-19 22:38:53 | 
| DNAcopy | 1.2 KiB | 2005-10-19 22:38:53 | 
| DynDoc | 1.1 KiB | 2005-10-19 22:38:53 | 
| EBarrays | 1.3 KiB | 2005-10-19 22:38:54 | 
| GLAD | 1.2 KiB | 2005-10-19 22:38:58 | 
| GOstats | 1.2 KiB | 2005-10-19 22:38:59 | 
| GeneMeta | 1.2 KiB | 2005-10-19 22:38:56 | 
| GeneR | 1.2 KiB | 2005-10-19 22:38:56 | 
| GeneSpring | 1.2 KiB | 2005-10-19 22:38:57 | 
| GeneTS | 1.1 KiB | 2005-10-19 22:38:57 | 
| GeneTraffic | 1.2 KiB | 2005-10-19 22:38:57 | 
| GlobalAncova | 1.2 KiB | 2005-10-19 22:38:58 | 
| GraphAT | 1.1 KiB | 2005-10-19 22:39:00 | 
| HEM | 1.2 KiB | 2005-10-19 22:39:00 | 
| Icens | 1.1 KiB | 2005-10-19 22:39:01 | 
| KEGGSOAP | 1.1 KiB | 2005-10-19 22:39:02 | 
| LPE | 1.1 KiB | 2005-10-19 22:39:03 | 
| MANOR | 1.4 KiB | 2005-10-19 22:39:04 | 
| MCRestimate | 1.2 KiB | 2005-10-19 22:39:05 | 
| MLInterfaces | 625 B | 2005-10-19 22:39:06 | 
| MeasurementError.cor | 1.3 KiB | 2005-10-19 22:39:05 | 
| MergeMaid | 1.2 KiB | 2005-10-19 22:39:06 | 
| MiPP | 1.2 KiB | 2005-10-19 22:39:06 | 
| OLIN | 1.1 KiB | 2005-10-19 22:39:07 | 
| OLINgui | 606 B | 2005-10-19 22:39:08 | 
| PROcess | 1.2 KiB | 2005-10-19 22:39:10 | 
| RBGL | 1.4 KiB | 2005-10-19 22:39:11 | 
| RMAGEML | 1.5 KiB | 2005-10-19 22:39:13 | 
| ROC | 1.1 KiB | 2005-10-19 22:39:14 | 
| RSNPper | 1.2 KiB | 2005-10-19 22:39:14 | 
| RankProd | 1.2 KiB | 2005-10-19 22:39:11 | 
| Rdbi | 1.1 KiB | 2005-10-19 22:39:11 | 
| RdbiPgSQL | 1.3 KiB | 2005-10-19 22:39:11 | 
| Resourcerer | 1.2 KiB | 2005-10-19 22:39:12 | 
| Rgraphviz | 1.3 KiB | 2005-10-19 22:39:13 | 
| Ruuid | 1.3 KiB | 2005-10-19 22:39:14 | 
| SAGElyzer | 2.4 KiB | 2005-10-19 22:39:15 | 
| SBMLR | 603 B | 2005-10-19 22:39:15 | 
| SNAData | 1.2 KiB | 2005-10-19 22:39:16 | 
| aCGH | 1.3 KiB | 2005-10-19 22:38:46 | 
| affxparser | 483 B | 2005-10-19 22:38:46 | 
| affy | 1.3 KiB | 2005-10-19 22:38:46 | 
| affyPLM | 25.4 KiB | 2005-10-19 22:38:47 | 
| affyQCReport | 1.2 KiB | 2005-10-19 22:38:48 | 
| affycomp | 1.2 KiB | 2005-10-19 22:38:46 | 
| affydata | 1.2 KiB | 2005-10-19 22:38:47 | 
| affylmGUI | 1.2 KiB | 2005-10-19 22:38:47 | 
| affypdnn | 1.1 KiB | 2005-10-19 22:38:47 | 
| altcdfenvs | 1.2 KiB | 2005-10-19 22:38:48 | 
| annaffy | 1.2 KiB | 2005-10-19 22:38:48 | 
| annotate | 2.1 KiB | 2005-10-19 22:38:49 | 
| apComplex | 1.2 KiB | 2005-10-19 22:38:49 | 
| arrayMagic | 1.2 KiB | 2005-10-19 22:38:49 | 
| arrayQuality | 1.2 KiB | 2005-10-19 22:38:50 | 
| bim | 1.2 KiB | 2005-10-19 22:38:50 | 
| bioDist | 1.1 KiB | 2005-10-19 22:38:50 | 
| biomaRt | 468 B | 2005-10-19 22:38:51 | 
| bridge | 1.2 KiB | 2005-10-19 22:38:51 | 
| clusterStab | 1.2 KiB | 2005-10-19 22:38:52 | 
| convert | 1.2 KiB | 2005-10-19 22:38:52 | 
| ctc | 1.1 KiB | 2005-10-19 22:38:52 | 
| daMA | 1.1 KiB | 2005-10-19 22:38:53 | 
| diffGeneAnalysis | 1.2 KiB | 2005-10-19 22:38:53 | 
| ecolitk | 1.2 KiB | 2005-10-19 22:38:54 | 
| edd | 1.1 KiB | 2005-10-19 22:38:54 | 
| externalVector | 1.2 KiB | 2005-10-19 22:38:54 | 
| factDesign | 1.2 KiB | 2005-10-19 22:38:55 | 
| fdrame | 1.2 KiB | 2005-10-19 22:38:55 | 
| gcrma | 1.2 KiB | 2005-10-19 22:38:55 | 
| genArise | 1.2 KiB | 2005-10-19 22:38:55 | 
| geneRecommender | 1.2 KiB | 2005-10-19 22:38:57 | 
| genefilter | 1.3 KiB | 2005-10-19 22:38:56 | 
| geneplotter | 1.2 KiB | 2005-10-19 22:38:56 | 
| gff3Plotter | 1.2 KiB | 2005-10-19 22:38:58 | 
| globaltest | 1.2 KiB | 2005-10-19 22:38:58 | 
| goCluster | 1.2 KiB | 2005-10-19 22:38:59 | 
| goTools | 1.2 KiB | 2005-10-19 22:38:59 | 
| gpls | 1.2 KiB | 2005-10-19 22:38:59 | 
| graph | 1.2 KiB | 2005-10-19 22:38:59 | 
| hexbin | 1.2 KiB | 2005-10-19 22:39:00 | 
| hopach | 1.2 KiB | 2005-10-19 22:39:01 | 
| hypergraph | 1.1 KiB | 2005-10-19 22:39:01 | 
| iSPlot | 463 B | 2005-10-19 22:39:02 | 
| ideogram | 1.2 KiB | 2005-10-19 22:39:01 | 
| impute | 1.2 KiB | 2005-10-19 22:39:02 | 
| limma | 1.2 KiB | 2005-10-19 22:39:02 | 
| limmaGUI | 2.1 KiB | 2005-10-19 22:39:03 | 
| maDB | 1.1 KiB | 2005-10-19 22:39:03 | 
| maSigPro | 4.0 KiB | 2005-10-19 22:39:05 | 
| maanova | 1.2 KiB | 2005-10-19 22:39:03 | 
| macat | 1.2 KiB | 2005-10-19 22:39:03 | 
| made4 | 1.2 KiB | 2005-10-19 22:39:04 | 
| makecdfenv | 1.3 KiB | 2005-10-19 22:39:04 | 
| marray | 1.2 KiB | 2005-10-19 22:39:04 | 
| matchprobes | 1.3 KiB | 2005-10-19 22:39:05 | 
| mmgmos | 1.2 KiB | 2005-10-19 22:39:06 | 
| msbase | 1.3 KiB | 2005-10-19 22:39:07 | 
| multtest | 1.3 KiB | 2005-10-19 22:39:07 | 
| nnNorm | 1.2 KiB | 2005-10-19 22:39:07 | 
| ontoTools | 626 B | 2005-10-19 22:39:08 | 
| pairseqsim | 1.3 KiB | 2005-10-19 22:39:08 | 
| pamr | 1.2 KiB | 2005-10-19 22:39:08 | 
| pdmclass | 647 B | 2005-10-19 22:39:09 | 
| pgUtils | 1.1 KiB | 2005-10-19 22:39:09 | 
| pickgene | 1.2 KiB | 2005-10-19 22:39:09 | 
| plgem | 1.2 KiB | 2005-10-19 22:39:09 | 
| plier | 1.2 KiB | 2005-10-19 22:39:10 | 
| prada | 458 B | 2005-10-19 22:39:10 | 
| qvalue | 1.2 KiB | 2005-10-19 22:39:10 | 
| rama | 1.2 KiB | 2005-10-19 22:39:10 | 
| reb | 1.2 KiB | 2005-10-19 22:39:12 | 
| reposTools | 1.2 KiB | 2005-10-19 22:39:12 | 
| rfcdmin | 935 B | 2005-10-19 22:39:12 | 
| rflowcyt | 626 B | 2005-10-19 22:39:13 | 
| rhdf5 | 1.3 KiB | 2005-10-19 22:39:13 | 
| safe | 1.2 KiB | 2005-10-19 22:39:14 | 
| sagenhaft | 1.4 KiB | 2005-10-19 22:39:15 | 
| siggenes | 1.2 KiB | 2005-10-19 22:39:15 | 
| simpleaffy | 1.3 KiB | 2005-10-19 22:39:15 | 
| simulatorAPMS | 1.2 KiB | 2005-10-19 22:39:16 | 
| splicegear | 2.5 KiB | 2005-10-19 22:39:16 | 
| spotSegmentation | 1.2 KiB | 2005-10-19 22:39:17 | 
| ssize | 599 B | 2005-10-19 22:39:17 | 
| stam | 1.2 KiB | 2005-10-19 22:39:17 | 
| stepNorm | 1.1 KiB | 2005-10-19 22:39:17 | 
| tilingArray | 547 B | 2005-10-19 22:39:17 | 
| timecourse | 1.2 KiB | 2005-10-19 22:39:18 | 
| tkWidgets | 2.1 KiB | 2005-10-19 22:39:18 | 
| twilight | 1.3 KiB | 2005-10-19 22:39:18 | 
| vsn | 1.2 KiB | 2005-10-19 22:39:19 | 
| webbioc | 1.2 KiB | 2005-10-19 22:39:19 | 
| widgetInvoke | 493 B | 2005-10-19 22:39:19 | 
| widgetTools | 2.1 KiB | 2005-10-19 22:39:19 | 
| xcms | 648 B | 2005-10-19 22:39:19 |