This page last updated: Wed Oct 19 15:38:45 2005
All packages from Bioconductor release pass check
| Platform | Check Date | R Version | |||||||
|---|---|---|---|---|---|---|---|---|---|
| i686-pc-linux-gnu | Sat Oct 15 19:55:15 2005 | R version 2.2.0, 2005-10-07 | |||||||
| x86_64-unknown-linux-gnu | Sun Oct 16 18:50:51 2005 | R version 2.2.0, 2005-10-07 | |||||||
| sparc-sun-solaris2.9 | Wed Oct 12 21:59:49 2005 | R version 2.2.0, 2005-10-07 | |||||||
| i386-pc-mingw32 | Wed Oct 12 19:37:12 2005 | R version 2.2.0, 2005-10-10 | |||||||
| walpole | Wed Oct 12 21:17:52 2005 | R version 2.2.0, 2005-10-10 |
| Package | Version | Maintainer | Check Time (mins) | i686-pc-linux-gnu | x86_64-unknown-linux-gnu | sparc-sun-solaris2.9 | i386-pc-mingw32 | walpole | |
|---|---|---|---|---|---|---|---|---|---|
| 1 | aCGH | 1.4.0 | Jane Fridlyand | 4.7 | OK | OK | OK | OK | OK |
| 2 | affxparser | 1.2.0 | James Bullard | 2.1 | OK | OK | ERROR | ERROR | ERROR |
| 3 | affy | 1.8.1 | Rafael A. Irizarry | 2.4 | OK | OK | OK | OK | OK |
| 4 | affycomp | 1.6.0 | Rafael A. Irizarry | 1.8 | OK | OK | OK | OK | OK |
| 5 | affydata | 1.6.0 | Laurent | 1.7 | OK | OK | OK | OK | OK |
| 6 | affylmGUI | 1.4.0 | Keith Satterley | 0.8 | OK | OK | OK | OK | OK |
| 7 | affypdnn | 1.4.0 | Laurent | 3.8 | OK | OK | OK | OK | OK |
| 8 | affyPLM | 1.6.0 | Ben Bolstad | 9.1 | OK | OK | WARN | WARN | WARN |
| 9 | affyQCReport | 1.8.0 | Craig Parman | 2.2 | OK | OK | OK | OK | OK |
| 10 | altcdfenvs | 1.4.0 | Laurent Gautier | 8.6 | OK | OK | OK | OK | OK |
| 11 | annaffy | 1.2.0 | Colin A. Smith | 4.1 | OK | OK | OK | OK | OK |
| 12 | AnnBuilder | 1.8.0 | J. Zhang | 1.1 | OK | OK | OK | OK | OK |
| 13 | annotate | 1.8.0 | R. Gentleman | 3.4 | WARN | OK | ERROR | OK | ERROR |
| 14 | apComplex | 1.4.0 | Denise Scholtens | 1 | OK | OK | OK | OK | OK |
| 15 | arrayMagic | 1.8.0 | Andreas Buness | 5 | OK | OK | OK | OK | OK |
| 16 | arrayQuality | 1.4.0 | A. Paquet | 1.4 | OK | OK | OK | OK | OK |
| 17 | bim | 1.2.0 | Brian S. Yandell | 2.9 | OK | OK | OK | OK | OK |
| 18 | Biobase | 1.8.0 | R. Gentleman | 1.1 | OK | OK | OK | OK | OK |
| 19 | bioDist | 1.2.0 | R. Gentleman | 0.3 | OK | OK | OK | OK | OK |
| 20 | biomaRt | 1.4.0 | Steffen Durinck | 2.5 | OK | OK | ERROR | ERROR | ERROR |
| 21 | Biostrings | 1.4.0 | Saikat DebRoy | 3.1 | OK | OK | OK | OK | OK |
| 22 | bridge | 1.2.0 | Raphael Gottardo | 1.8 | OK | OK | OK | OK | OK |
| 23 | Category | 1.2.0 | R. Gentleman | 1.2 | OK | OK | OK | OK | OK |
| 24 | ChromoViz | 1.2.0 | Jihoon Kim | 0.3 | OK | OK | OK | OK | OK |
| 25 | clusterStab | 1.2.0 | James W. MacDonald | 1.1 | OK | OK | OK | OK | OK |
| 26 | CoCiteStats | 1.2.0 | R. Gentleman | 0.6 | OK | OK | OK | OK | OK |
| 27 | convert | 1.4.0 | Yee Hwa (Jean) Yang | 0.7 | OK | OK | OK | OK | WARN |
| 28 | ctc | 1.4.0 | Antoine Lucas | 0.4 | OK | OK | OK | OK | OK |
| 29 | daMA | 1.2.0 | Jobst Landgrebe | 0.3 | OK | OK | OK | OK | OK |
| 30 | DEDS | 1.2.0 | Yuanyuan Xiao | 4 | OK | OK | OK | OK | OK |
| 31 | diffGeneAnalysis | 1.12.0 | Choudary Jagarlamudi | 0.4 | OK | OK | OK | OK | OK |
| 32 | DNAcopy | 1.4.0 | Adam Olshen | 2.8 | OK | OK | OK | OK | OK |
| 33 | DynDoc | 1.8.0 | Seth Falcon | 0.5 | OK | OK | OK | OK | OK |
| 34 | EBarrays | 1.2.0 | Deepayan Sarkar | 3.1 | OK | OK | OK | OK | WARN |
| 35 | ecolitk | 1.2.0 | Laurent | 1.7 | OK | OK | OK | OK | OK |
| 36 | edd | 1.8.0 | Vince Carey | 3.6 | OK | OK | OK | OK | OK |
| 37 | externalVector | 1.2.0 | R. Gentleman | 2.2 | OK | OK | OK | OK | OK |
| 38 | factDesign | 1.4.0 | Denise Scholtens | 1.3 | OK | OK | OK | OK | OK |
| 39 | fdrame | 1.2.0 | Effi Kenigsberg | 0.4 | OK | OK | OK | OK | OK |
| 40 | gcrma | 2.2.0 | Z. Wu | 3.1 | OK | OK | OK | OK | OK |
| 41 | genArise | 1.6.0 | IFC Development Team | 0.9 | OK | OK | OK | OK | OK |
| 42 | genefilter | 1.8.0 | R. Gentleman | 1.7 | OK | OK | OK | OK | OK |
| 43 | GeneMeta | 1.2.0 | R. Gentleman | 3.4 | OK | OK | OK | OK | OK |
| 44 | geneplotter | 1.8.0 | Jeff Gentry | 1.7 | OK | OK | OK | OK | OK |
| 45 | GeneR | 1.4.0 | Antoine Lucas | 0.5 | OK | OK | OK | ERROR | ERROR |
| 46 | geneRecommender | 1.2.0 | Greg Hather | 0.5 | OK | OK | OK | OK | OK |
| 47 | GeneSpring | 2.2.0 | Thon de Boer | 0.5 | OK | OK | OK | OK | OK |
| 48 | GeneTraffic | 1.2.0 | Daniel Iordan | 0.9 | OK | OK | OK | ERROR | ERROR |
| 49 | GeneTS | 2.8.0 | Korbinian Strimmer | 0.6 | OK | OK | OK | OK | OK |
| 50 | gff3Plotter | 1.4.0 | Oleg Sklyar | 0.5 | OK | OK | OK | OK | ERROR |
| 51 | GLAD | 1.2.0 | Philippe Hupé, | 1.4 | OK | OK | OK | OK | OK |
| 52 | GlobalAncova | 1.4.0 | R. Meister | 4.6 | OK | OK | OK | OK | OK |
| 53 | globaltest | 3.2.0 | Jelle Goeman | 2.4 | OK | OK | OK | OK | OK |
| 54 | goCluster | 1.4.0 | Gunnar Wrobel | 7.6 | OK | OK | OK | OK | OK |
| 55 | GOstats | 1.4.0 | R. Gentleman | 12.1 | OK | OK | OK | OK | OK |
| 56 | goTools | 1.2.0 | Agnes Paquet | 2.7 | OK | OK | OK | OK | WARN |
| 57 | gpls | 1.2.0 | Robert Gentleman | 1.6 | OK | OK | OK | OK | OK |
| 58 | graph | 1.8.0 | R. Gentleman | 1.3 | OK | OK | OK | OK | OK |
| 59 | GraphAT | 1.2.0 | Thomas LaFramboise | 1.1 | OK | OK | OK | OK | OK |
| 60 | HEM | 1.2.0 | HyungJun Cho | 0.6 | OK | OK | OK | OK | OK |
| 61 | hexbin | 1.4.0 | Nicholas Lewin-Koh | 2 | OK | OK | OK | ERROR | ERROR |
| 62 | hopach | 1.4.0 | Katherine S. Pollard | 2.6 | OK | OK | OK | OK | OK |
| 63 | hypergraph | 1.2.0 | Seth Falcon | 0.7 | OK | OK | OK | OK | OK |
| 64 | Icens | 1.2.0 | Robert Gentleman | 1.2 | OK | OK | OK | OK | OK |
| 65 | ideogram | 1.4.0 | Karl J. Dykema | 0.8 | OK | OK | OK | OK | OK |
| 66 | impute | 1.2.0 | Balasubramanian Narasimhan | 0.3 | OK | OK | OK | OK | OK |
| 67 | iSPlot | 1.2.0 | Elizabeth Whalen | 0.6 | OK | OK | ERROR | ERROR | ERROR |
| 68 | KEGGSOAP | 1.4.0 | J. Zhang | 1.1 | OK | OK | OK | ERROR | ERROR |
| 69 | limma | 2.2.0 | Gordon Smyth | 2.4 | OK | OK | OK | OK | OK |
| 70 | limmaGUI | 1.6.0 | Keith Satterley | 0.6 | OK | OK | ERROR | OK | OK |
| 71 | LPE | 1.4.0 | Nitin Jain | 0.8 | OK | OK | OK | OK | OK |
| 72 | maanova | 1.0.0 | Hao Wu | 0.6 | OK | OK | OK | OK | OK |
| 73 | macat | 1.4.0 | Joern Toedling | 3.5 | OK | OK | OK | OK | ERROR |
| 74 | maDB | 1.2.0 | Johannes Rainer | 0.8 | OK | OK | OK | ERROR | ERROR |
| 75 | made4 | 1.4.0 | Aedin Culhane | 1.3 | OK | OK | OK | OK | OK |
| 76 | makecdfenv | 1.8.0 | Rafael A. Irizarry | 1.9 | OK | OK | OK | OK | OK |
| 77 | MANOR | 1.2.0 | Pierre Neuvial | 1.1 | OK | OK | WARN | ERROR | ERROR |
| 78 | marray | 1.8.0 | Yee Hwa (Jean) Yang | 5.5 | OK | OK | OK | OK | OK |
| 79 | maSigPro | 1.2.0 | Ana Conesa | 1.5 | OK | OK | ERROR | OK | OK |
| 80 | matchprobes | 1.2.1 | R. Gentleman | 7.2 | OK | OK | OK | WARN | WARN |
| 81 | MCRestimate | 1.4.0 | Markus Ruschhaupt | 2.3 | OK | OK | OK | OK | OK |
| 82 | MeasurementError.cor | 1.2.0 | Beiying Ding | 0.8 | OK | OK | OK | OK | OK |
| 83 | MergeMaid | 2.2.0 | Xiaogang Zhong | 1 | OK | OK | OK | OK | OK |
| 84 | MiPP | 1.2.0 | HyungJun Cho | 4.9 | OK | OK | OK | OK | OK |
| 85 | MLInterfaces | 1.2.0 | V. Carey | 1.4 | OK | OK | ERROR | OK | OK |
| 86 | mmgmos | 1.2.0 | Xuejun Liu | 1.2 | OK | OK | OK | OK | OK |
| 87 | msbase | 1.4.0 | Witold Wolski | 1.4 | OK | OK | OK | ERROR | ERROR |
| 88 | multtest | 1.8.0 | Katherine S. Pollard | 1.2 | OK | OK | OK | OK | OK |
| 89 | nnNorm | 1.4.0 | Tarca Laurentiu | 1.8 | OK | OK | OK | OK | OK |
| 90 | OLIN | 1.6.0 | Matthias Futschik | 2.2 | OK | OK | OK | OK | OK |
| 91 | OLINgui | 1.4.0 | Matthias Futschik | 0.7 | OK | OK | ERROR | OK | OK |
| 92 | ontoTools | 1.6.0 | Vince Carey | 2.7 | OK | OK | ERROR | OK | OK |
| 93 | pairseqsim | 1.4.0 | Witold Wolski | 1 | OK | OK | OK | OK | OK |
| 94 | pamr | 1.28.0 | Rob TIbshirani | 0.7 | OK | OK | OK | OK | OK |
| 95 | pdmclass | 1.2.0 | James W. MacDonald | 7.6 | OK | OK | ERROR | OK | OK |
| 96 | pgUtils | 1.2.0 | Johannes Rainer | 0.3 | OK | OK | OK | ERROR | ERROR |
| 97 | pickgene | 1.2.0 | Brian S. Yandell | 0.4 | OK | OK | OK | OK | OK |
| 98 | plgem | 1.2.0 | Mattia Pelizzola | 3.1 | OK | OK | OK | OK | OK |
| 99 | plier | 1.2.0 | Crispin Miller | 0.5 | OK | OK | OK | OK | OK |
| 100 | prada | 1.6.0 | Florian Hahne | 0.1 | ERROR | ERROR | ERROR | OK | OK |
| 101 | PROcess | 1.6.1 | Xiaochun Li | 2.3 | OK | OK | OK | OK | OK |
| 102 | qvalue | 1.4.0 | John D. Storey | 0.4 | OK | OK | OK | OK | OK |
| 103 | rama | 1.2.0 | Raphael Gottardo | 0.6 | OK | OK | OK | OK | OK |
| 104 | RankProd | 1.2.0 | Fangxin Hong | 2 | OK | OK | OK | OK | OK |
| 105 | RBGL | 1.6.0 | Li Long | 4.4 | WARN | WARN | WARN | OK | OK |
| 106 | Rdbi | 1.4.0 | Jianhua Zhang | 0.3 | OK | OK | OK | OK | OK |
| 107 | RdbiPgSQL | 1.4.0 | Jianhua Zhang | 0.3 | OK | OK | OK | ERROR | ERROR |
| 108 | reb | 1.2.0 | Karl J. Dykema | 1.5 | OK | OK | OK | WARN | WARN |
| 109 | reposTools | 1.8.0 | Seth Falcon | 1.2 | OK | OK | OK | OK | OK |
| 110 | Resourcerer | 1.4.0 | Jianhua Zhang | 1.1 | OK | OK | OK | OK | OK |
| 111 | rfcdmin | 1.2.0 | N. Le Meur | 0.9 | OK | OK | OK | OK | OK |
| 112 | rflowcyt | 1.2.0 | N. Le Meur | 13.7 | OK | OK | ERROR | WARN | WARN |
| 113 | Rgraphviz | 1.8.0 | Jeff Gentry | 3.2 | OK | OK | OK | WARN | WARN |
| 114 | rhdf5 | 1.6.0 | R. Gentleman | 0.8 | OK | OK | OK | ERROR | ERROR |
| 115 | RMAGEML | 2.4.0 | Steffen Durinck | 0.1 | ERROR | ERROR | WARN | ERROR | ERROR |
| 116 | ROC | 1.4.0 | Vince Carey | 0.6 | OK | OK | OK | OK | OK |
| 117 | RSNPper | 1.2.0 | VJ Carey | 4.3 | OK | OK | OK | OK | OK |
| 118 | Ruuid | 1.8.0 | R. Gentleman | 0.7 | OK | OK | OK | OK | OK |
| 119 | safe | 1.2.0 | William T. Barry | 6.3 | OK | OK | OK | OK | OK |
| 120 | SAGElyzer | 1.8.0 | Jianhua Zhang | 1 | OK | OK | ERROR | ERROR | ERROR |
| 121 | sagenhaft | 1.2.0 | Tim Beissbarth | 5.2 | WARN | WARN | WARN | WARN | WARN |
| 122 | SBMLR | 1.24.0 | Tomas Radivoyevitch | 1.1 | OK | OK | ERROR | ERROR | ERROR |
| 123 | siggenes | 1.4.0 | Holger Schwender | 1.1 | OK | OK | OK | OK | OK |
| 124 | simpleaffy | 2.2.0 | Crispin Miller | 1 | OK | OK | OK | WARN | OK |
| 125 | simulatorAPMS | 1.2.1 | Tony Chiang | 1 | OK | OK | OK | WARN | OK |
| 126 | SNAData | 1.4.0 | Denise Scholtens | 0.8 | OK | OK | OK | OK | OK |
| 127 | splicegear | 1.2.0 | Laurent | 0.9 | WARN | WARN | WARN | WARN | WARN |
| 128 | spotSegmentation | 1.2.0 | Chris Fraley | 0.9 | OK | OK | OK | OK | OK |
| 129 | ssize | 1.2.0 | Gregory R. Warnes | 1 | OK | OK | ERROR | OK | OK |
| 130 | stam | 1.2.0 | Claudio Lottaz | 21.1 | OK | OK | OK | ERROR | ERROR |
| 131 | stepNorm | 1.2.0 | Yuanyuan Xiao | 4.4 | OK | OK | OK | OK | OK |
| 132 | tilingArray | 1.2.0 | W. Huber | 1.1 | OK | OK | ERROR | OK | OK |
| 133 | timecourse | 1.2.0 | Yu Chuan Tai | 2.8 | OK | OK | OK | OK | OK |
| 134 | tkWidgets | 1.8.0 | J. Zhang | 0.8 | OK | OK | ERROR | OK | OK |
| 135 | twilight | 1.4.0 | Stefanie Scheid | 10.4 | OK | OK | OK | OK | OK |
| 136 | vsn | 1.8.0 | Wolfgang Huber | 9.2 | OK | OK | OK | OK | OK |
| 137 | webbioc | 1.2.0 | Colin A. Smith | 0.9 | OK | OK | OK | OK | OK |
| 138 | widgetInvoke | 1.2.0 | Jeff Gentry | 0.5 | OK | OK | ERROR | ERROR | ERROR |
| 139 | widgetTools | 1.6.0 | Jianhua Zhang | 0.6 | OK | OK | ERROR | OK | OK |
| 140 | xcms | 1.2.0 | Colin A. Smith | 5.8 | OK | OK | ERROR | WARN | WARN |