Back to the "Multiple platform build/check report"
| Package 12/48 | Hostname | OS | Arch | BUILD | CHECK | BUILD BIN |
estrogen1.8.2R. GentlemanLast Changed Date: 2007-06-28 17:03:35 -0700 Last Changed Rev: 348 | lamb1 | Linux (SUSE 10.1) | x86_64 | [ OK ] | OK | |
| lemming | Windows Server 2003 (32-bit) | x64 | OK | OK | OK |
| Package: estrogen |
| Version: 1.8.2 |
| Command: /home/biocbuild/bbs-2.0-bioc/R/bin/R CMD build estrogen |
| RetCode: 0 |
| Time: 240.8 seconds |
| Status: OK |
| PackageFile: estrogen_1.8.2.tar.gz |
* checking for file 'estrogen/DESCRIPTION' ... OK
* preparing 'estrogen':
* checking DESCRIPTION meta-information ... OK
* installing the package to re-build vignettes
* Installing *source* package 'estrogen' ...
** R
** inst
** help
>>> Building/Updating help pages for package 'estrogen'
Formats: text html latex example
gentlecol text html latex
** building package indices ...
* DONE (estrogen)
* creating vignettes ... OK
* removing junk files
* checking for LF line-endings in source files
* checking for empty or unneeded directories
* building 'estrogen_1.8.2.tar.gz'