Back to the "Multiple platform build/check report"
| Package 31/48 | Hostname | OS | Arch | BUILD | CHECK | BUILD BIN |
lymphoma1.6.5W. HuberLast Changed Date: 2007-03-06 07:14:28 -0800 Last Changed Rev: 234 | lamb1 | Linux (SUSE 10.1) | x86_64 | [ OK ] | WARNINGS | |
| lemming | Windows Server 2003 (32-bit) | x64 | OK | WARNINGS | OK |
| Package: lymphoma |
| Version: 1.6.5 |
| Command: /home/biocbuild/bbs-2.0-bioc/R/bin/R CMD build lymphoma |
| RetCode: 0 |
| Time: 37.0 seconds |
| Status: OK |
| PackageFile: lymphoma_1.6.5.tar.gz |
* checking for file 'lymphoma/DESCRIPTION' ... OK
* preparing 'lymphoma':
* checking DESCRIPTION meta-information ... OK
* checking whether 'INDEX' is up-to-date ... OK
* installing the package to re-build vignettes
* Installing *source* package 'lymphoma' ...
** R
** data
** inst
** help
>>> Building/Updating help pages for package 'lymphoma'
Formats: text html latex example
gentlecol text html latex
** building package indices ...
* DONE (lymphoma)
* creating vignettes ... OK
* removing junk files
* checking for LF line-endings in source files
* checking for empty or unneeded directories
* building 'lymphoma_1.6.5.tar.gz'