| Back to the "Multiple platform build/check report" | 
This page was generated on 2014-04-04 17:28:45 -0700 (Fri, 04 Apr 2014).
| Package 25/181 | Hostname | OS / Arch | BUILD | CHECK | BUILD BIN | ||||
| ceu1kgv 0.5.3 VJ Carey 
 | zin1 | Linux (Ubuntu 12.04.4 LTS) / x86_64 | OK | WARNINGS | |||||
| moscato1 | Windows Server 2008 R2 Enterprise SP1 (64-bit) / x64 | OK | WARNINGS | OK | |||||
| perceval | Mac OS X Snow Leopard (10.6.8) / x86_64 | OK | WARNINGS | OK |