| harbChIP 0.0.7 VJ Carey
 
 | Snapshot Date: 2008-10-16 12:02:11 -0700 (Thu, 16 Oct 2008) |  | URL: https://hedgehog.fhcrc.org/bioc-data/trunk/experiment/pkgs/harbChIP |  | Last Changed Rev: 676 / Revision: 729 |  | Last Changed Date: 2008-06-25 09:20:50 -0700 (Wed, 25 Jun 2008) | 
 | lamb1 | Linux (SUSE 10.1) / x86_64 | [ OK ] | OK |  | 
| liverpool | Windows Server 2003 R2 (32-bit) / x64 | OK | OK | OK | 
| pitt | Mac OS X Tiger (10.4.11) / i386 | OK | OK | OK | 
* checking for file 'harbChIP/DESCRIPTION' ... OK
* preparing 'harbChIP':
* checking DESCRIPTION meta-information ... OK
* installing the package to re-build vignettes
* Installing *source* package 'harbChIP' ...
** R
** data
** inst
** help
Note: removing empty section \references
 >>> Building/Updating help pages for package 'harbChIP'
     Formats: text html latex example 
  allhex                            text    html    latex   example
  buildUpstreamSeqs2                text    html    latex   example
  chkMotif4TF                       text    html    latex   example
  harbChIP                          text    html    latex   example
  sceUpstream                       text    html    latex   example
  upstreamSeqs-class                text    html    latex   example
** building package indices ...
Loading required package: methods
* DONE (harbChIP)
* creating vignettes ... OK
* removing junk files
* checking for LF line-endings in source and make files
* checking for empty or unneeded directories
* building 'harbChIP_0.0.7.tar.gz'