| Back to the "Multiple platform build/check report" |
| Package 4/65 | Hostname | OS / Arch | BUILD | CHECK | BUILD BIN | ||||
| ALLMLL 1.2.4 B. M. Bolstad
| wilson1 | Linux (openSUSE 11.1) / x86_64 | OK | ERROR | |||||
| liverpool | Windows Server 2003 R2 (32-bit) / x64 | [ OK ] | ERROR | OK | |||||
| pitt | Mac OS X Tiger (10.4.11) / i386 | OK | ERROR | OK | |||||
| pelham | Mac OS X Leopard (10.5.7) / i386 | OK | ERROR | OK |
| Package: ALLMLL |
| Version: 1.2.4 |
| Command: E:\biocbld\bbs-2.4-bioc\R\bin\R.exe CMD build ALLMLL |
| StartedAt: 2009-08-10 01:45:57 -0700 (Mon, 10 Aug 2009) |
| EndedAt: 2009-08-10 01:46:27 -0700 (Mon, 10 Aug 2009) |
| EllapsedTime: 29.5 seconds |
| RetCode: 0 |
| Status: OK |
| PackageFile: ALLMLL_1.2.4.tar.gz |
| PackageFileSize: 37.54 MiB |
* checking for file 'ALLMLL/DESCRIPTION' ... OK * preparing 'ALLMLL': * checking DESCRIPTION meta-information ... OK * removing junk files * checking for LF line-endings in source and make files * checking for empty or unneeded directories * building 'ALLMLL_1.2.4.tar.gz'