GraphAlignment 1.8.0 Joern P. Meier
 | Snapshot Date: 2010-04-02 23:28:25 -0700 (Fri, 02 Apr 2010) |  | URL: https://hedgehog.fhcrc.org/bioconductor/branches/RELEASE_2_5/madman/Rpacks/GraphAlignment |  | Last Changed Rev: 42684 / Revision: 45705 |  | Last Changed Date: 2009-10-27 16:33:29 -0700 (Tue, 27 Oct 2009) |  
  | wilson2  | Linux (openSUSE 11.1) / x86_64  |  OK  |  OK  |  | 
| liverpool  | Windows Server 2003 R2 (32-bit) / x64  |  OK  |  OK  | [ OK ] | 
| pitt  | Mac OS X Tiger (10.4.11) / i386  |  OK  |  OK  |  OK  | 
| pelham  | Mac OS X Leopard (10.5.8) / i386  |  OK  |  OK  |  OK  | 
* installing *source* package 'GraphAlignment' ...
** libs
  making DLL ...
gcc -I"E:/biocbld/bbs-2.5-bioc/R/include"        -O3 -Wall  -std=gnu99 -c GA_alloc.c -o GA_alloc.o
gcc -I"E:/biocbld/bbs-2.5-bioc/R/include"        -O3 -Wall  -std=gnu99 -c GA_matrix.c -o GA_matrix.o
gcc -I"E:/biocbld/bbs-2.5-bioc/R/include"        -O3 -Wall  -std=gnu99 -c GA_matrix_R.c -o GA_matrix_R.o
gcc -I"E:/biocbld/bbs-2.5-bioc/R/include"        -O3 -Wall  -std=gnu99 -c GA_message.c -o GA_message.o
gcc -I"E:/biocbld/bbs-2.5-bioc/R/include"        -O3 -Wall  -std=gnu99 -c GA_vector.c -o GA_vector.o
gcc -I"E:/biocbld/bbs-2.5-bioc/R/include"        -O3 -Wall  -std=gnu99 -c GA_vector_R.c -o GA_vector_R.o
GA_vector_R.c: In function 'GA_clamp_mode_from_R':
GA_vector_R.c:139: warning: unused variable 'size'
gcc -I"E:/biocbld/bbs-2.5-bioc/R/include"        -O3 -Wall  -std=gnu99 -c GraphAlignment.c -o GraphAlignment.o
GraphAlignment.c: In function 'GA_encode_directed_graph':
GraphAlignment.c:138: warning: suggest explicit braces to avoid ambiguous 'else'
GraphAlignment.c:159: warning: suggest explicit braces to avoid ambiguous 'else'
GraphAlignment.c: In function 'GA_directed_mode_from_R':
GraphAlignment.c:264: warning: unused variable 'size'
gcc -I"E:/biocbld/bbs-2.5-bioc/R/include"        -O3 -Wall  -std=gnu99 -c lap.c -o lap.o
lap.c: In function 'LAP_lap':
lap.c:65: warning: 'min' may be used uninitialized in this function
lap.c:64: warning: 'last' may be used uninitialized in this function
gcc -shared -s -o GraphAlignment.dll tmp.def GA_alloc.o GA_matrix.o GA_matrix_R.o GA_message.o GA_vector.o GA_vector_R.o GraphAlignment.o lap.o -LE:/biocbld/bbs-2.5-bioc/R/bin -lR
  ... done
** R
** inst
** preparing package for lazy loading
** help
*** installing help indices
** building package indices ...
** MD5 sums
packaged installation of 'GraphAlignment' as GraphAlignment_1.8.0.zip
* DONE (GraphAlignment)