All our mirrors of open source software are available via http, https, ftp and an onion service. More information about our mirrors including statistics and contact information is available on our mirror info pages.
For information about dotsrc.org and our other services please go to our website.
| File Name ↓ | File Size ↓ | Date ↓ | 
|---|---|---|
| Parent directory/ | - | - | 
| ALL/ | - | 2010-04-03 00:30:24 | 
| ALLMLL/ | - | 2010-04-03 00:30:24 | 
| AffymetrixDataTestFiles/ | - | 2010-04-03 00:30:24 | 
| AmpAffyExample/ | - | 2010-04-03 00:30:24 | 
| CCl4/ | - | 2010-04-03 00:30:27 | 
| CLL/ | - | 2010-04-03 00:30:25 | 
| GGdata/ | - | 2010-04-03 00:30:25 | 
| GenomicFeatures.Hsapiens.UCSC.hg18/ | - | 2010-04-03 00:30:28 | 
| GenomicFeatures.Mmusculus.UCSC.mm9/ | - | 2010-04-03 00:30:28 | 
| HEEBOdata/ | - | 2010-04-03 00:30:25 | 
| HIVcDNAvantWout03/ | - | 2010-04-03 00:30:25 | 
| ITALICSData/ | - | 2010-04-03 00:30:28 | 
| Iyer517/ | - | 2010-04-03 00:30:25 | 
| MAQCsubset/ | - | 2010-04-03 00:30:26 | 
| MAQCsubsetAFX/ | - | 2010-04-03 00:30:27 | 
| MAQCsubsetILM/ | - | 2010-04-03 00:30:27 | 
| MEEBOdata/ | - | 2010-04-03 00:30:26 | 
| Neve2006/ | - | 2010-04-03 00:30:27 | 
| ProData/ | - | 2010-04-03 00:30:26 | 
| SNAData/ | - | 2010-04-03 00:30:26 | 
| SpikeIn/ | - | 2010-04-03 00:30:26 | 
| SpikeInSubset/ | - | 2010-04-03 00:30:26 | 
| TargetSearchData/ | - | 2010-04-03 00:30:28 | 
| XhybCasneuf/ | - | 2010-04-03 00:30:27 | 
| affydata/ | - | 2010-04-03 00:30:24 | 
| beta7/ | - | 2010-04-03 00:30:24 | 
| bronchialIL13/ | - | 2010-04-03 00:30:25 | 
| ccTutorial/ | - | 2010-04-03 00:30:27 | 
| charmData/ | - | 2010-04-03 00:30:29 | 
| colonCA/ | - | 2010-04-03 00:30:25 | 
| davidTiling/ | - | 2010-04-03 00:30:25 | 
| dyebiasexamples/ | - | 2010-04-03 00:30:28 | 
| ecoliLeucine/ | - | 2010-04-03 00:30:25 | 
| encoDnaseI/ | - | 2010-04-03 00:30:27 | 
| estrogen/ | - | 2010-04-03 00:30:25 | 
| faahKO/ | - | 2010-04-03 00:30:25 | 
| facsDorit/ | - | 2010-04-03 00:30:25 | 
| fibroEset/ | - | 2010-04-03 00:30:25 | 
| frmaExampleData/ | - | 2010-04-03 00:30:28 | 
| gaschYHS/ | - | 2010-04-03 00:30:25 | 
| gatingMLData/ | - | 2010-04-03 00:30:25 | 
| gcspikelite/ | - | 2010-04-03 00:30:28 | 
| golubEsets/ | - | 2010-04-03 00:30:25 | 
| hapmap100khind/ | - | 2010-04-03 00:30:27 | 
| hapmap100kxba/ | - | 2010-04-03 00:30:26 | 
| hapmap500knsp/ | - | 2010-04-03 00:30:27 | 
| hapmap500ksty/ | - | 2010-04-03 00:30:27 | 
| hapmapsnp5/ | - | 2010-04-03 00:30:27 | 
| hapmapsnp6/ | - | 2010-04-03 00:30:27 | 
| harbChIP/ | - | 2010-04-03 00:30:25 | 
| hgu133abarcodevecs/ | - | 2010-04-03 00:30:28 | 
| hgu133afrmavecs/ | - | 2010-04-03 00:30:28 | 
| hgu133plus2barcodevecs/ | - | 2010-04-03 00:30:28 | 
| hgu133plus2frmavecs/ | - | 2010-04-03 00:30:28 | 
| hgu2beta7/ | - | 2010-04-03 00:30:25 | 
| hmyriB36/ | - | 2010-04-03 00:30:28 | 
| humanStemCell/ | - | 2010-04-03 00:30:28 | 
| ind1KG/ | - | 2010-04-03 00:30:28 | 
| kidpack/ | - | 2010-04-03 00:30:26 | 
| leeBamViews/ | - | 2010-04-03 00:30:29 | 
| lumiBarnes/ | - | 2010-04-03 00:30:26 | 
| lungExpression/ | - | 2010-04-03 00:30:26 | 
| maqcExpression4plex/ | - | 2010-04-03 00:30:27 | 
| mouse4302barcodevecs/ | - | 2010-04-03 00:30:28 | 
| mouse4302frmavecs/ | - | 2010-04-03 00:30:28 | 
| msdata/ | - | 2010-04-03 00:30:27 | 
| mvoutData/ | - | 2010-04-03 00:30:28 | 
| ppiData/ | - | 2010-04-03 00:30:26 | 
| pumadata/ | - | 2010-04-03 00:30:27 | 
| rfcdmin/ | - | 2010-04-03 00:30:26 | 
| stjudem/ | - | 2010-04-03 00:30:26 | 
| tinesath1cdf/ | - | 2010-04-03 00:30:27 | 
| tinesath1probe/ | - | 2010-04-03 00:30:27 | 
| yeastCC/ | - | 2010-04-03 00:30:26 | 
| yeastExpData/ | - | 2010-04-03 00:30:26 | 
| yeastGSData/ | - | 2010-04-03 00:30:27 | 
| yeastRNASeq/ | - | 2010-04-03 00:30:28 | 
| STATUS_DB.txt | 19.4 KiB | 2010-04-03 00:30:15 | 
| index.html | 207.9 KiB | 2010-04-03 00:30:29 | 
| meat-index.txt | 12.8 KiB | 2010-04-03 00:30:11 | 
| pelham-NodeInfo.html | 4.0 KiB | 2010-04-03 00:30:29 | 
| pelham-R-instpkgs.html | 39.1 KiB | 2010-04-03 00:30:29 | 
| pelham-index.html | 54.6 KiB | 2010-04-03 00:30:29 | 
| pitt-NodeInfo.html | 3.9 KiB | 2010-04-03 00:30:29 | 
| pitt-R-instpkgs.html | 39.2 KiB | 2010-04-03 00:30:29 | 
| pitt-index.html | 53.7 KiB | 2010-04-03 00:30:29 | 
| report.css | 5.8 KiB | 2010-04-03 00:30:15 | 
| report.js | 3.9 KiB | 2010-04-03 00:30:15 | 
| report.tgz | 165.4 KiB | 2010-04-03 00:30:30 | 
| wilson2-NodeInfo.html | 3.9 KiB | 2010-04-03 00:30:29 | 
| wilson2-R-instpkgs.html | 39.3 KiB | 2010-04-03 00:30:29 | 
| wilson2-index.html | 47.7 KiB | 2010-04-03 00:30:29 |