| Back to the "Multiple platform build/check report" |
| Package 78/83 | Hostname | OS / Arch | BUILD | CHECK | BUILD BIN | ||||
| tinesath1probe 1.0.2 Tine Casneuf
| wilson1 | Linux (openSUSE 11.1) / x86_64 | OK | OK | |||||
| liverpool | Windows Server 2003 R2 (32-bit) / x64 | [ OK ] | OK | OK | |||||
| pelham | Mac OS X Leopard (10.5.8) / i386 | OK | OK | OK |
| Package: tinesath1probe |
| Version: 1.0.2 |
| Command: chmod a+r tinesath1probe -R && E:\biocbld\bbs-2.6-bioc\R\bin\R.exe CMD build tinesath1probe |
| StartedAt: 2010-09-24 03:10:44 -0700 (Fri, 24 Sep 2010) |
| EndedAt: 2010-09-24 03:10:48 -0700 (Fri, 24 Sep 2010) |
| EllapsedTime: 4.5 seconds |
| RetCode: 0 |
| Status: OK |
| PackageFile: tinesath1probe_1.0.2.tar.gz |
| PackageFileSize: 3.037 MiB |
* checking for file 'tinesath1probe/DESCRIPTION' ... OK * preparing 'tinesath1probe': * checking DESCRIPTION meta-information ... OK * removing junk files * checking for LF line-endings in source and make files * checking for empty or unneeded directories * building 'tinesath1probe_1.0.2.tar.gz'