| name | user | system | elapsed
|
| anoCar1.ensGene.LENGTH | 0.16 | 0.04 | 11.82 |
|
| anoCar1.genscan.LENGTH | 0.09 | 0.13 | 0.27 |
|
| anoCar1.xenoRefGene.LENGTH | 1.97 | 0.09 | 2.27 |
|
| anoGam1.ensGene.LENGTH | 0.16 | 0.08 | 0.25 |
|
| anoGam1.geneid.LENGTH | 0.15 | 0.05 | 0.22 |
|
| anoGam1.genscan.LENGTH | 0.11 | 0.09 | 0.22 |
|
| apiMel1.genscan.LENGTH | 0.33 | 0.05 | 0.39 |
|
| apiMel2.ensGene.LENGTH | 0.16 | 0.03 | 0.20 |
|
| apiMel2.geneid.LENGTH | 0.12 | 0.05 | 0.25 |
|
| apiMel2.genscan.LENGTH | 0.10 | 0.04 | 0.16 |
|
| aplCal1.xenoRefGene.LENGTH | 0.76 | 0.10 | 1.14 |
|
| bosTau2.geneSymbol.LENGTH | 0.08 | 0.06 | 0.19 |
|
| bosTau2.geneid.LENGTH | 0.47 | 0.05 | 0.61 |
|
| bosTau2.genscan.LENGTH | 0.45 | 0.03 | 0.52 |
|
| bosTau2.refGene.LENGTH | 0.09 | 0.04 | 0.17 |
|
| bosTau2.sgpGene.LENGTH | 0.41 | 0.05 | 0.47 |
|
| bosTau3.ensGene.LENGTH | 0.20 | 0.03 | 0.26 |
|
| bosTau3.geneSymbol.LENGTH | 0.08 | 0.05 | 0.16 |
|
| bosTau3.geneid.LENGTH | 0.19 | 0.06 | 0.28 |
|
| bosTau3.genscan.LENGTH | 0.20 | 0.08 | 0.28 |
|
| bosTau3.refGene.LENGTH | 0.11 | 0.03 | 0.14 |
|
| bosTau3.sgpGene.LENGTH | 0.19 | 0.10 | 0.29 |
|
| bosTau4.ensGene.LENGTH | 0.16 | 0.10 | 0.31 |
|
| bosTau4.geneSymbol.LENGTH | 0.09 | 0.02 | 0.13 |
|
| bosTau4.genscan.LENGTH | 0.15 | 0.03 | 0.58 |
|
| bosTau4.nscanGene.LENGTH | 0.13 | 0.05 | 0.17 |
|
| bosTau4.refGene.LENGTH | 0.08 | 0.05 | 0.18 |
|
| braFlo1.xenoRefGene.LENGTH | 0.75 | 0.12 | 1.14 |
|
| caeJap1.xenoRefGene.LENGTH | 0.79 | 0.03 | 0.84 |
|
| caePb1.xenoRefGene.LENGTH | 0.77 | 0.00 | 0.88 |
|
| caePb2.xenoRefGene.LENGTH | 0.81 | 0.10 | 1.13 |
|
| caeRem2.xenoRefGene.LENGTH | 0.71 | 0.01 | 0.76 |
|
| caeRem3.xenoRefGene.LENGTH | 0.70 | 0.05 | 0.99 |
|
| calJac1.genscan.LENGTH | 0.15 | 0.12 | 0.28 |
|
| calJac1.nscanGene.LENGTH | 0.24 | 0.00 | 0.27 |
|
| calJac1.xenoRefGene.LENGTH | 1.44 | 0.07 | 1.65 |
|
| canFam1.ensGene.LENGTH | 0.17 | 0.01 | 0.23 |
|
| canFam1.geneSymbol.LENGTH | 0.01 | 0.02 | 0.05 |
|
| canFam1.genscan.LENGTH | 0.19 | 0.03 | 0.23 |
|
| canFam1.nscanGene.LENGTH | 0.19 | 0.03 | 0.22 |
|
| canFam1.refGene.LENGTH | 0.01 | 0.01 | 0.05 |
|
| canFam1.xenoRefGene.LENGTH | 1.13 | 0.13 | 1.28 |
|
| canFam2.ensGene.LENGTH | 0.16 | 0.08 | 0.37 |
|
| canFam2.geneSymbol.LENGTH | 0.03 | 0.00 | 0.03 |
|
| canFam2.genscan.LENGTH | 0.25 | 0.01 | 0.27 |
|
| canFam2.nscanGene.LENGTH | 0.12 | 0.02 | 0.17 |
|
| canFam2.refGene.LENGTH | 0.02 | 0.01 | 0.03 |
|
| canFam2.xenoRefGene.LENGTH | 1.25 | 0.10 | 1.43 |
|
| cavPor3.ensGene.LENGTH | 0.14 | 0.06 | 0.23 |
|
| cavPor3.genscan.LENGTH | 0.30 | 0.05 | 0.39 |
|
| cavPor3.nscanGene.LENGTH | 0.25 | 0.03 | 0.33 |
|
| cavPor3.xenoRefGene.LENGTH | 1.23 | 0.12 | 1.42 |
|
| cb1.xenoRefGene.LENGTH | 0.95 | 0.04 | 1.07 |
|
| cb3.xenoRefGene.LENGTH | 0.58 | 0.01 | 1.39 |
|
| ce2.geneSymbol.LENGTH | 0.11 | 0.14 | 0.80 |
|
| ce2.geneid.LENGTH | 0.11 | 0.00 | 0.16 |
|
| ce2.refGene.LENGTH | 0.12 | 0.14 | 0.29 |
|
| ce4.geneSymbol.LENGTH | 0.11 | 0.11 | 0.29 |
|
| ce4.refGene.LENGTH | 0.16 | 0.08 | 0.31 |
|
| ce4.xenoRefGene.LENGTH | 0.20 | 0.00 | 0.23 |
|
| ce6.ensGene.LENGTH | 0.16 | 0.08 | 0.27 |
|
| ce6.geneSymbol.LENGTH | 0.12 | 0.11 | 0.31 |
|
| ce6.refGene.LENGTH | 0.14 | 0.11 | 0.30 |
|
| ce6.xenoRefGene.LENGTH | 0.13 | 0.01 | 0.19 |
|
| ci1.geneSymbol.LENGTH | 0.01 | 0.02 | 0.03 |
|
| ci1.refGene.LENGTH | 0.02 | 0.01 | 0.04 |
|
| ci1.xenoRefGene.LENGTH | 0.29 | 0.05 | 0.41 |
|
| ci2.ensGene.LENGTH | 0.12 | 0.02 | 0.18 |
|
| ci2.geneSymbol.LENGTH | 0.00 | 0.00 | 0.03 |
|
| ci2.refGene.LENGTH | 0.00 | 0.01 | 0.01 |
|
| ci2.xenoRefGene.LENGTH | 0.73 | 0.05 | 0.78 |
|
| danRer3.ensGene.LENGTH | 0.16 | 0.11 | 0.28 |
|
| danRer3.geneSymbol.LENGTH | 0.11 | 0.08 | 0.21 |
|
| danRer3.refGene.LENGTH | 0.36 | 0.07 | 0.51 |
|
| danRer4.ensGene.LENGTH | 0.20 | 0.04 | 0.27 |
|
| danRer4.geneSymbol.LENGTH | 0.13 | 0.06 | 0.22 |
|
| danRer4.genscan.LENGTH | 0.11 | 0.04 | 0.20 |
|
| danRer4.nscanGene.LENGTH | 0.12 | 0.13 | 0.27 |
|
| danRer4.refGene.LENGTH | 0.13 | 0.05 | 0.17 |
|
| danRer5.ensGene.LENGTH | 0.16 | 0.03 | 0.22 |
|
| danRer5.geneSymbol.LENGTH | 0.09 | 0.08 | 0.17 |
|
| danRer5.refGene.LENGTH | 0.11 | 0.04 | 0.16 |
|
| danRer5.vegaGene.LENGTH | 0.16 | 0.05 | 0.22 |
|
| danRer5.vegaPseudoGene.LENGTH | 0.03 | 0.00 | 0.03 |
|
| danRer6.ensGene.LENGTH | 0.20 | 0.06 | 0.30 |
|
| danRer6.geneSymbol.LENGTH | 0.14 | 0.03 | 0.17 |
|
| danRer6.refGene.LENGTH | 0.13 | 0.03 | 0.16 |
|
| danRer6.xenoRefGene.LENGTH | 1.01 | 0.11 | 1.25 |
|
| dm1.geneSymbol.LENGTH | 0.11 | 0.13 | 0.26 |
|
| dm1.genscan.LENGTH | 0.32 | 0.05 | 0.71 |
|
| dm1.refGene.LENGTH | 0.04 | 0.14 | 0.38 |
|
| dm2.geneSymbol.LENGTH | 0.16 | 0.07 | 0.70 |
|
| dm2.geneid.LENGTH | 0.08 | 0.07 | 0.25 |
|
| dm2.genscan.LENGTH | 0.09 | 0.03 | 0.21 |
|
| dm2.nscanGene.LENGTH | 0.05 | 0.03 | 0.28 |
|
| dm2.refGene.LENGTH | 0.11 | 0.12 | 0.52 |
|
| dm3.geneSymbol.LENGTH | 0.11 | 0.02 | 0.41 |
|
| dm3.nscanPasaGene.LENGTH | 0.03 | 0.13 | 0.47 |
|
| dm3.refGene.LENGTH | 0.11 | 0.01 | 0.17 |
|
| downloadLengthFromUCSC | 45.95 | 1.09 | 105.80 |
|
| dp2.genscan.LENGTH | 0.06 | 0.07 | 0.48 |
|
| dp2.xenoRefGene.LENGTH | 0.41 | 0.09 | 0.75 |
|
| dp3.geneid.LENGTH | 0.08 | 0.09 | 0.17 |
|
| dp3.genscan.LENGTH | 0.04 | 0.08 | 0.14 |
|
| dp3.xenoRefGene.LENGTH | 0.22 | 0.11 | 0.34 |
|
| droAna1.geneid.LENGTH | 0.11 | 0.05 | 0.20 |
|
| droAna1.genscan.LENGTH | 0.08 | 0.03 | 0.14 |
|
| droAna1.xenoRefGene.LENGTH | 0.39 | 0.09 | 0.51 |
|
| droAna2.genscan.LENGTH | 0.11 | 0.00 | 0.18 |
|
| droAna2.xenoRefGene.LENGTH | 0.59 | 0.08 | 0.70 |
|
| droEre1.genscan.LENGTH | 0.07 | 0.06 | 0.15 |
|
| droEre1.xenoRefGene.LENGTH | 0.61 | 0.07 | 2.33 |
|
| droGri1.genscan.LENGTH | 0.03 | 0.12 | 0.19 |
|
| droGri1.xenoRefGene.LENGTH | 0.48 | 0.05 | 1.28 |
|
| droMoj1.geneid.LENGTH | 0.50 | 0.06 | 0.86 |
|
| droMoj1.genscan.LENGTH | 0.10 | 0.03 | 0.14 |
|
| droMoj1.xenoRefGene.LENGTH | 0.43 | 0.14 | 0.78 |
|
| droMoj2.genscan.LENGTH | 0.07 | 0.10 | 0.18 |
|
| droMoj2.xenoRefGene.LENGTH | 0.53 | 0.12 | 0.86 |
|
| droPer1.genscan.LENGTH | 0.09 | 0.09 | 0.19 |
|
| droPer1.xenoRefGene.LENGTH | 0.78 | 0.10 | 1.11 |
|
| droSec1.genscan.LENGTH | 0.10 | 0.06 | 0.83 |
|
| droSec1.xenoRefGene.LENGTH | 0.50 | 0.01 | 1.68 |
|
| droSim1.geneid.LENGTH | 0.09 | 0.07 | 0.16 |
|
| droSim1.genscan.LENGTH | 0.06 | 0.06 | 0.13 |
|
| droSim1.xenoRefGene.LENGTH | 0.45 | 0.06 | 0.53 |
|
| droVir1.geneid.LENGTH | 0.19 | 0.05 | 0.25 |
|
| droVir1.genscan.LENGTH | 0.06 | 0.11 | 0.19 |
|
| droVir1.xenoRefGene.LENGTH | 0.54 | 0.03 | 0.76 |
|
| droVir2.genscan.LENGTH | 0.10 | 0.06 | 0.17 |
|
| droVir2.xenoRefGene.LENGTH | 0.54 | 0.13 | 2.83 |
|
| droYak1.geneid.LENGTH | 0.08 | 0.09 | 0.20 |
|
| droYak1.genscan.LENGTH | 0.13 | 0.03 | 0.20 |
|
| droYak1.xenoRefGene.LENGTH | 0.37 | 0.03 | 0.44 |
|
| droYak2.genscan.LENGTH | 0.05 | 0.10 | 0.14 |
|
| droYak2.xenoRefGene.LENGTH | 0.56 | 0.09 | 0.66 |
|
| equCab1.geneSymbol.LENGTH | 0.01 | 0.02 | 0.60 |
|
| equCab1.geneid.LENGTH | 0.17 | 0.06 | 0.25 |
|
| equCab1.nscanGene.LENGTH | 0.36 | 0.08 | 0.46 |
|
| equCab1.refGene.LENGTH | 0.00 | 0.03 | 0.03 |
|
| equCab1.sgpGene.LENGTH | 0.13 | 0.08 | 0.20 |
|
| equCab2.ensGene.LENGTH | 0.19 | 0.07 | 0.27 |
|
| equCab2.geneSymbol.LENGTH | 0.01 | 0.01 | 0.03 |
|
| equCab2.nscanGene.LENGTH | 0.10 | 0.11 | 0.21 |
|
| equCab2.refGene.LENGTH | 0.03 | 0.00 | 0.19 |
|
| equCab2.xenoRefGene.LENGTH | 0.97 | 0.04 | 1.12 |
|
| felCat3.ensGene.LENGTH | 0.14 | 0.01 | 0.19 |
|
| felCat3.geneSymbol.LENGTH | 0.00 | 0.02 | 0.03 |
|
| felCat3.geneid.LENGTH | 0.92 | 0.06 | 1.14 |
|
| felCat3.genscan.LENGTH | 0.25 | 0.07 | 0.33 |
|
| felCat3.nscanGene.LENGTH | 0.20 | 0.04 | 0.41 |
|
| felCat3.refGene.LENGTH | 0.00 | 0.00 | 0.05 |
|
| felCat3.sgpGene.LENGTH | 0.25 | 0.04 | 0.28 |
|
| felCat3.xenoRefGene.LENGTH | 2.37 | 0.09 | 4.12 |
|
| fr1.ensGene.LENGTH | 0.17 | 0.05 | 0.86 |
|
| fr1.genscan.LENGTH | 0.13 | 0.03 | 0.17 |
|
| fr2.ensGene.LENGTH | 0.23 | 0.11 | 0.64 |
|
| galGal2.ensGene.LENGTH | 0.10 | 0.03 | 0.13 |
|
| galGal2.geneSymbol.LENGTH | 0.03 | 0.03 | 0.06 |
|
| galGal2.geneid.LENGTH | 0.15 | 0.03 | 0.19 |
|
| galGal2.genscan.LENGTH | 0.14 | 0.09 | 0.25 |
|
| galGal2.refGene.LENGTH | 0.85 | 0.07 | 0.90 |
|
| galGal2.sgpGene.LENGTH | 0.09 | 0.07 | 0.19 |
|
| galGal3.ensGene.LENGTH | 0.12 | 0.05 | 0.18 |
|
| galGal3.geneSymbol.LENGTH | 0.02 | 0.05 | 0.07 |
|
| galGal3.genscan.LENGTH | 0.12 | 0.09 | 0.23 |
|
| galGal3.nscanGene.LENGTH | 0.13 | 0.00 | 0.14 |
|
| galGal3.refGene.LENGTH | 0.03 | 0.03 | 0.20 |
|
| galGal3.xenoRefGene.LENGTH | 0.78 | 0.07 | 1.36 |
|
| gasAcu1.ensGene.LENGTH | 0.16 | 0.06 | 0.24 |
|
| gasAcu1.nscanGene.LENGTH | 0.17 | 0.08 | 0.26 |
|
| hg16.acembly.LENGTH | 0.59 | 0.14 | 0.74 |
|
| hg16.ensGene.LENGTH | 0.14 | 0.03 | 0.17 |
|
| hg16.exoniphy.LENGTH | 0.43 | 0.09 | 0.53 |
|
| hg16.geneSymbol.LENGTH | 0.15 | 0.05 | 0.22 |
|
| hg16.geneid.LENGTH | 0.14 | 0.09 | 0.23 |
|
| hg16.genscan.LENGTH | 0.10 | 0.07 | 0.44 |
|
| hg16.knownGene.LENGTH | 0.20 | 0.09 | 0.31 |
|
| hg16.refGene.LENGTH | 0.17 | 0.03 | 0.21 |
|
| hg16.sgpGene.LENGTH | 0.13 | 0.03 | 0.36 |
|
| hg17.acembly.LENGTH | 0.75 | 0.03 | 1.17 |
|
| hg17.acescan.LENGTH | 0.03 | 0.02 | 0.07 |
|
| hg17.ccdsGene.LENGTH | 0.04 | 0.06 | 0.12 |
|
| hg17.ensGene.LENGTH | 0.22 | 0.06 | 0.30 |
|
| hg17.exoniphy.LENGTH | 0.69 | 0.07 | 2.94 |
|
| hg17.geneSymbol.LENGTH | 0.19 | 0.01 | 0.23 |
|
| hg17.geneid.LENGTH | 0.12 | 0.06 | 0.22 |
|
| hg17.genscan.LENGTH | 0.09 | 0.07 | 0.18 |
|
| hg17.knownGene.LENGTH | 0.19 | 0.04 | 0.27 |
|
| hg17.refGene.LENGTH | 0.22 | 0.00 | 0.22 |
|
| hg17.sgpGene.LENGTH | 0.12 | 0.08 | 0.22 |
|
| hg17.vegaGene.LENGTH | 0.05 | 0.08 | 0.20 |
|
| hg17.vegaPseudoGene.LENGTH | 0.03 | 0.03 | 0.07 |
|
| hg17.xenoRefGene.LENGTH | 0.35 | 0.06 | 0.42 |
|
| hg18.acembly.LENGTH | 0.93 | 0.08 | 1.42 |
|
| hg18.acescan.LENGTH | 0.02 | 0.03 | 0.06 |
|
| hg18.ccdsGene.LENGTH | 0.11 | 0.03 | 0.14 |
|
| hg18.ensGene.LENGTH | 0.34 | 0.05 | 0.39 |
|
| hg18.exoniphy.LENGTH | 0.74 | 0.12 | 1.04 |
|
| hg18.geneSymbol.LENGTH | 0.20 | 0.03 | 0.38 |
|
| hg18.geneid.LENGTH | 0.12 | 0.07 | 0.22 |
|
| hg18.genscan.LENGTH | 0.16 | 0.04 | 0.20 |
|
| hg18.knownGene.LENGTH | 0.31 | 0.05 | 0.55 |
|
| hg18.knownGeneOld3.LENGTH | 0.14 | 0.09 | 0.23 |
|
| hg18.refGene.LENGTH | 0.18 | 0.07 | 0.25 |
|
| hg18.sgpGene.LENGTH | 0.16 | 0.06 | 0.97 |
|
| hg18.sibGene.LENGTH | 0.61 | 0.09 | 2.39 |
|
| hg18.xenoRefGene.LENGTH | 0.61 | 0.08 | 0.77 |
|
| hg19.ccdsGene.LENGTH | 0.09 | 0.08 | 0.20 |
|
| hg19.ensGene.LENGTH | 0.55 | 0.06 | 0.61 |
|
| hg19.exoniphy.LENGTH | 0.72 | 0.14 | 0.86 |
|
| hg19.geneSymbol.LENGTH | 0.18 | 0.05 | 0.25 |
|
| hg19.knownGene.LENGTH | 0.30 | 0.12 | 0.46 |
|
| hg19.nscanGene.LENGTH | 0.23 | 0.05 | 0.31 |
|
| hg19.refGene.LENGTH | 0.18 | 0.03 | 0.56 |
|
| hg19.xenoRefGene.LENGTH | 0.57 | 0.05 | 0.84 |
|
| loxAfr3.xenoRefGene.LENGTH | 1.21 | 0.03 | 1.81 |
|
| mm7.ensGene.LENGTH | 0.22 | 0.00 | 0.23 |
|
| mm7.geneSymbol.LENGTH | 0.14 | 0.01 | 0.16 |
|
| mm7.geneid.LENGTH | 0.14 | 0.07 | 0.26 |
|
| mm7.genscan.LENGTH | 0.48 | 0.04 | 0.54 |
|
| mm7.knownGene.LENGTH | 0.14 | 0.04 | 0.21 |
|
| mm7.refGene.LENGTH | 0.13 | 0.01 | 0.17 |
|
| mm7.sgpGene.LENGTH | 0.14 | 0.08 | 0.29 |
|
| mm7.xenoRefGene.LENGTH | 0.51 | 0.11 | 0.64 |
|
| mm8.ccdsGene.LENGTH | 0.05 | 0.05 | 0.62 |
|
| mm8.ensGene.LENGTH | 0.16 | 0.06 | 0.26 |
|
| mm8.geneSymbol.LENGTH | 0.14 | 0.00 | 0.16 |
|
| mm8.geneid.LENGTH | 0.17 | 0.07 | 0.23 |
|
| mm8.genscan.LENGTH | 0.13 | 0.03 | 0.45 |
|
| mm8.knownGene.LENGTH | 0.14 | 0.03 | 0.20 |
|
| mm8.nscanGene.LENGTH | 0.10 | 0.03 | 2.77 |
|
| mm8.refGene.LENGTH | 0.12 | 0.02 | 0.51 |
|
| mm8.sgpGene.LENGTH | 0.14 | 0.06 | 0.49 |
|
| mm8.sibGene.LENGTH | 0.44 | 0.08 | 0.76 |
|
| mm8.xenoRefGene.LENGTH | 0.56 | 0.14 | 0.78 |
|
| mm9.acembly.LENGTH | 0.86 | 0.03 | 1.72 |
|
| mm9.ccdsGene.LENGTH | 0.11 | 0.03 | 0.14 |
|
| mm9.ensGene.LENGTH | 0.20 | 0.12 | 0.33 |
|
| mm9.exoniphy.LENGTH | 0.72 | 0.10 | 0.95 |
|
| mm9.geneSymbol.LENGTH | 0.13 | 0.01 | 0.14 |
|
| mm9.geneid.LENGTH | 0.14 | 0.07 | 0.22 |
|
| mm9.genscan.LENGTH | 0.11 | 0.06 | 0.17 |
|
| mm9.knownGene.LENGTH | 0.84 | 0.06 | 0.93 |
|
| mm9.nscanGene.LENGTH | 0.09 | 0.02 | 0.12 |
|
| mm9.refGene.LENGTH | 0.11 | 0.03 | 0.14 |
|
| mm9.sgpGene.LENGTH | 0.16 | 0.06 | 0.22 |
|
| mm9.xenoRefGene.LENGTH | 0.59 | 0.13 | 0.79 |
|
| monDom1.genscan.LENGTH | 0.13 | 0.03 | 0.63 |
|
| monDom4.ensGene.LENGTH | 0.11 | 0.06 | 0.17 |
|
| monDom4.geneSymbol.LENGTH | 0.01 | 0.01 | 0.04 |
|
| monDom4.genscan.LENGTH | 0.08 | 0.16 | 0.25 |
|
| monDom4.nscanGene.LENGTH | 0.13 | 0.08 | 0.20 |
|
| monDom4.refGene.LENGTH | 0.01 | 0.00 | 0.02 |
|
| monDom4.xenoRefGene.LENGTH | 0.63 | 0.05 | 0.86 |
|
| monDom5.ensGene.LENGTH | 0.16 | 0.02 | 0.17 |
|
| monDom5.geneSymbol.LENGTH | 0.02 | 0.00 | 0.02 |
|
| monDom5.genscan.LENGTH | 0.09 | 0.00 | 0.14 |
|
| monDom5.nscanGene.LENGTH | 0.19 | 0.03 | 0.25 |
|
| monDom5.refGene.LENGTH | 0.02 | 0.01 | 0.05 |
|
| monDom5.xenoRefGene.LENGTH | 0.9 | 0.1 | 1.2 |
|
| ornAna1.ensGene.LENGTH | 0.18 | 0.04 | 0.30 |
|
| ornAna1.geneSymbol.LENGTH | 0.01 | 0.00 | 0.01 |
|
| ornAna1.refGene.LENGTH | 0.02 | 0.00 | 0.02 |
|
| ornAna1.xenoRefGene.LENGTH | 0.90 | 0.10 | 1.76 |
|
| oryLat2.ensGene.LENGTH | 0.14 | 0.05 | 0.75 |
|
| oryLat2.geneSymbol.LENGTH | 0.00 | 0.03 | 0.06 |
|
| oryLat2.refGene.LENGTH | 0.02 | 0.01 | 0.05 |
|
| oryLat2.xenoRefGene.LENGTH | 0.80 | 0.05 | 0.94 |
|
| panTro1.ensGene.LENGTH | 0.18 | 0.03 | 0.25 |
|
| panTro1.geneid.LENGTH | 0.13 | 0.09 | 0.22 |
|
| panTro1.genscan.LENGTH | 0.09 | 0.04 | 0.17 |
|
| panTro1.xenoRefGene.LENGTH | 0.22 | 0.04 | 0.50 |
|
| panTro2.ensGene.LENGTH | 0.19 | 0.05 | 0.26 |
|
| panTro2.geneSymbol.LENGTH | 0.19 | 0.03 | 0.25 |
|
| panTro2.genscan.LENGTH | 0.12 | 0.03 | 0.24 |
|
| panTro2.nscanGene.LENGTH | 0.11 | 0.03 | 0.15 |
|
| panTro2.refGene.LENGTH | 0.16 | 0.07 | 0.22 |
|
| panTro2.xenoRefGene.LENGTH | 0.81 | 0.03 | 1.14 |
|
| petMar1.xenoRefGene.LENGTH | 0.41 | 0.11 | 0.72 |
|
| ponAbe2.ensGene.LENGTH | 0.13 | 0.07 | 0.28 |
|
| ponAbe2.geneSymbol.LENGTH | 0.03 | 0.02 | 0.11 |
|
| ponAbe2.genscan.LENGTH | 0.12 | 0.03 | 0.27 |
|
| ponAbe2.nscanGene.LENGTH | 0.11 | 0.02 | 0.19 |
|
| ponAbe2.refGene.LENGTH | 0.05 | 0.00 | 0.06 |
|
| ponAbe2.xenoRefGene.LENGTH | 1.11 | 0.01 | 1.20 |
|
| priPac1.xenoRefGene.LENGTH | 0.54 | 0.06 | 0.69 |
|
| rheMac2.ensGene.LENGTH | 0.21 | 0.07 | 0.31 |
|
| rheMac2.geneSymbol.LENGTH | 0.00 | 0.01 | 0.03 |
|
| rheMac2.geneid.LENGTH | 0.14 | 0.03 | 0.19 |
|
| rheMac2.nscanGene.LENGTH | 0.08 | 0.05 | 0.27 |
|
| rheMac2.refGene.LENGTH | 0.03 | 0.00 | 0.05 |
|
| rheMac2.sgpGene.LENGTH | 0.12 | 0.06 | 0.22 |
|
| rheMac2.xenoRefGene.LENGTH | 0.91 | 0.05 | 1.11 |
|
| rn3.ensGene.LENGTH | 0.48 | 0.09 | 0.63 |
|
| rn3.geneSymbol.LENGTH | 0.13 | 0.07 | 0.23 |
|
| rn3.geneid.LENGTH | 0.12 | 0.01 | 0.16 |
|
| rn3.genscan.LENGTH | 0.16 | 0.03 | 0.20 |
|
| rn3.knownGene.LENGTH | 0.08 | 0.02 | 0.10 |
|
| rn3.nscanGene.LENGTH | 0.08 | 0.01 | 0.17 |
|
| rn3.refGene.LENGTH | 0.07 | 0.08 | 0.19 |
|
| rn3.sgpGene.LENGTH | 0.11 | 0.05 | 0.16 |
|
| rn3.xenoRefGene.LENGTH | 0.86 | 0.08 | 0.97 |
|
| rn4.ensGene.LENGTH | 0.21 | 0.03 | 0.24 |
|
| rn4.geneSymbol.LENGTH | 0.12 | 0.05 | 0.18 |
|
| rn4.geneid.LENGTH | 0.19 | 0.04 | 0.32 |
|
| rn4.genscan.LENGTH | 0.12 | 0.05 | 0.19 |
|
| rn4.knownGene.LENGTH | 0.07 | 0.01 | 0.07 |
|
| rn4.nscanGene.LENGTH | 0.12 | 0.09 | 2.13 |
|
| rn4.refGene.LENGTH | 0.09 | 0.10 | 1.70 |
|
| rn4.sgpGene.LENGTH | 0.21 | 0.05 | 0.27 |
|
| rn4.xenoRefGene.LENGTH | 0.72 | 0.03 | 0.75 |
|
| sacCer1.ensGene.LENGTH | 0.04 | 0.03 | 0.08 |
|
| sacCer2.ensGene.LENGTH | 0.07 | 0.03 | 0.25 |
|
| strPur1.geneSymbol.LENGTH | 0.00 | 0.01 | 0.01 |
|
| strPur1.genscan.LENGTH | 0.14 | 0.10 | 0.25 |
|
| strPur1.refGene.LENGTH | 0.02 | 0.00 | 0.01 |
|
| strPur1.xenoRefGene.LENGTH | 0.83 | 0.05 | 0.95 |
|
| strPur2.geneSymbol.LENGTH | 0.02 | 0.00 | 0.01 |
|
| strPur2.genscan.LENGTH | 0.18 | 0.07 | 0.28 |
|
| strPur2.refGene.LENGTH | 0.00 | 0.02 | 0.02 |
|
| strPur2.xenoRefGene.LENGTH | 0.99 | 0.08 | 1.11 |
|
| supportedGeneIDs | 0.01 | 0.00 | 0.05 |
|
| supportedGenomes | 0.07 | 0.01 | 0.22 |
|
| taeGut1.ensGene.LENGTH | 0.14 | 0.02 | 0.17 |
|
| taeGut1.geneSymbol.LENGTH | 0.01 | 0.01 | 0.03 |
|
| taeGut1.genscan.LENGTH | 0.07 | 0.07 | 0.14 |
|
| taeGut1.nscanGene.LENGTH | 0.03 | 0.04 | 0.11 |
|
| taeGut1.refGene.LENGTH | 0.22 | 0.00 | 0.24 |
|
| taeGut1.xenoRefGene.LENGTH | 0.74 | 0.05 | 0.89 |
|
| tetNig1.ensGene.LENGTH | 0.12 | 0.09 | 0.23 |
|
| tetNig1.geneid.LENGTH | 0.09 | 0.05 | 0.20 |
|
| tetNig1.genscan.LENGTH | 0.13 | 0.08 | 0.23 |
|
| tetNig1.nscanGene.LENGTH | 0.09 | 0.06 | 0.19 |
|
| tetNig2.ensGene.LENGTH | 0.13 | 0.03 | 0.17 |
|
| unfactor | 0.01 | 0.00 | 0.01 |
|
| xenTro1.genscan.LENGTH | 0.18 | 0.00 | 0.21 |
|
| xenTro2.ensGene.LENGTH | 0.09 | 0.08 | 0.24 |
|
| xenTro2.geneSymbol.LENGTH | 0.06 | 0.05 | 0.18 |
|
| xenTro2.genscan.LENGTH | 0.17 | 0.04 | 0.23 |
|
| xenTro2.refGene.LENGTH | 0.09 | 0.00 | 0.13 |
|