hgu133plus2frmavecs 1.1.6 Matthew N. McCall
| Snapshot Date: 2011-04-06 12:27:26 -0700 (Wed, 06 Apr 2011) | | URL: https://hedgehog.fhcrc.org/bioc-data/trunk/experiment/pkgs/hgu133plus2frmavecs | | Last Changed Rev: 1443 / Revision: 1510 | | Last Changed Date: 2011-03-04 13:41:04 -0800 (Fri, 04 Mar 2011) |
| lamb2 | Linux (openSUSE 11.2) / x86_64 | OK | OK | |
| gewurz | Windows Server 2008 R2 Enterprise (64-bit) / x64 | [ OK ] | OK | OK |
| petty | Mac OS X Snow Leopard (10.6.6) / i386 | OK | OK | OK |
Warning: unknown option '--keep-empty-dirs'
* checking for file 'hgu133plus2frmavecs/DESCRIPTION' ... OK
* preparing 'hgu133plus2frmavecs':
* checking DESCRIPTION meta-information ... OK
* checking for LF line-endings in source and make files
* checking for empty or unneeded directories
* building 'hgu133plus2frmavecs_1.1.6.tar.gz'