| Back to the "Multiple platform build/check report" |
| Package 73/98 | Hostname | OS / Arch | BUILD | CHECK | BUILD BIN | ||||
| mosaicsExample 0.99.3 Dongjun Chung
| wilson2 | Linux (openSUSE 11.4) / x86_64 | OK | OK | |||||
| liverpool | Windows Server 2003 R2 (32-bit) / x64 | OK | OK | [ OK ] | |||||
| pitt | Mac OS X Leopard (10.5.8) / i386 | OK | OK | OK |
| Package: mosaicsExample |
| Version: 0.99.3 |
| Command: mkdir mosaicsExample.buildbin-libdir && E:\biocbld\bbs-2.9-bioc\R\bin\R.exe CMD INSTALL --build --no-multiarch --library=mosaicsExample.buildbin-libdir mosaicsExample_0.99.3.tar.gz |
| StartedAt: 2011-07-06 17:12:46 -0700 (Wed, 06 Jul 2011) |
| EndedAt: 2011-07-06 17:13:25 -0700 (Wed, 06 Jul 2011) |
| EllapsedTime: 38.2 seconds |
| RetCode: 0 |
| Status: OK |
| PackageFile: mosaicsExample_0.99.3.zip |
| PackageFileSize: 19.87 MiB |
* installing *source* package 'mosaicsExample' ... ** data ** inst ** help *** installing help indices ** building package indices ... ** testing if installed package can be loaded * MD5 sums packaged installation of 'mosaicsExample' as mosaicsExample_0.99.3.zip * DONE (mosaicsExample)