pcaGoPromoter.Hs.hg19 0.99.1 Morten Hansen,
 | Snapshot Date: 2012-03-23 11:15:09 -0700 (Fri, 23 Mar 2012) |  | URL: https://hedgehog.fhcrc.org/bioc-data/trunk/experiment/pkgs/pcaGoPromoter.Hs.hg19 |  | Last Changed Rev: 1853 / Revision: 2028 |  | Last Changed Date: 2011-12-16 17:39:02 -0800 (Fri, 16 Dec 2011) |  
  | wilson2  | Linux (openSUSE 11.4) / x86_64  |  OK  |  OK  |  | 
| moscato1  | Windows Server 2008 R2 Enterprise SP1 (64-bit) / x64  |  OK  |  OK  | [ OK ] | 
| pitt  | Mac OS X Leopard (10.5.8) / i386  |  OK  |  OK  |  OK  | 
install for i386
* installing *source* package 'pcaGoPromoter.Hs.hg19' ...
** data
** help
*** installing help indices
** building package indices ...
** testing if installed package can be loaded
add DLL for x64
* installing *source* package 'pcaGoPromoter.Hs.hg19' ...
** testing if installed package can be loaded
* MD5 sums
packaged installation of 'pcaGoPromoter.Hs.hg19' as pcaGoPromoter.Hs.hg19_0.99.1.zip
* DONE (pcaGoPromoter.Hs.hg19)