| Package STATUS - Package status is indicated by one of the following glyphs: | 
|  -  TIMEOUT  | 
BUILD, CHECK or BUILD BIN of package took more than 40 minutes | 
|  -  ERROR  | 
BUILD, CHECK or BUILD BIN of package returned an error | 
|  -  WARNINGS  | 
CHECK of package produced warnings | 
|  -  OK  | 
BUILD, CHECK or BUILD BIN of package was OK | 
|  - skipped  | 
CHECK or BUILD BIN of package was skipped because the BUILD step failed (or because something bad happened with the Build System itself) | 
| Click on any glyph in the report below to see the status details (command output). | 
| [wilson2] | 
Linux (openSUSE 11.4) / x86_64  |  |  |  | 
| moscato1 | 
Windows Server 2008 R2 Enterprise SP1 (64-bit) / x64  |  |  |  | 
| pitt | 
Mac OS X Leopard (10.5.8) / i386  |  |  |  | 
 | 
| affycompData 1.1.2 | Harris Jaffee |  OK  |  OK  |  | 
| affydata 1.11.15 | Harris Jaffee |  OK  |  OK  |  | 
| AffymetrixDataTestFiles 0.1.3 | Henrik Bengtsson |  OK  |  OK  |  | 
| ALL 1.4.11 | Robert Gentleman |  OK  |  OK  |  | 
| ALLMLL 1.2.11 | B. M. Bolstad |  OK  |  OK  |  | 
| AmpAffyExample 1.2.9 | Rafael A. Irizarry |  OK  |  OK  |  | 
| beadarrayExampleData 1.0.3 | Mark Dunning |  OK  |  OK  |  | 
| BeadArrayUseCases 1.0.7 | Mike Smith |  ERROR  |  skipped  |  | 
| beta7 1.0.2 | Jean Yang |  OK  |  WARNINGS  |  | 
| bladderbatch 1.0.2 | Jeffrey T. Leek |  OK  |  OK  |  | 
| breastCancerMAINZ 1.0.2 | Markus Schroeder , Benjamin Haibe-Kains |  OK  |  OK  |  | 
| breastCancerNKI 1.0.2 | Markus Schroeder , Benjamin Haibe-Kains |  OK  |  OK  |  | 
| breastCancerTRANSBIG 1.0.2 | Markus Schroeder , Benjamin Haibe-Kains |  OK  |  OK  |  | 
| breastCancerUNT 1.0.2 | Markus Schroeder , Benjamin Haibe-Kains |  OK  |  OK  |  | 
| breastCancerUPP 1.0.2 | Markus Schroeder , Benjamin Haibe-Kains |  OK  |  OK  |  | 
| breastCancerVDX 1.0.2 | Markus Schroeder , Benjamin Haibe-Kains |  OK  |  OK  |  | 
| bronchialIL13 1.0.8 | Vince Carey |  OK  |  OK  |  | 
| CCl4 1.0.11 | Audrey Kauffmann |  OK  |  OK  |  | 
| ccTutorial 1.0.20 | Joern Toedling |  OK  |  OK  |  | 
| ceu1kg 0.0.29 | VJ Carey |  OK  |  OK  |  | 
| ceuhm3 0.0.12 | VJ Carey |  OK  |  OK  |  | 
| cgdv17 0.0.15 | VJ Carey |  ERROR  |  skipped  |  | 
| charmData 0.99.5 | Martin Aryee |  OK  |  WARNINGS  |  | 
| cheung2010 0.0.23 | Vince Carey |  OK  |  OK  |  | 
| CLL 1.2.11 | Robert Gentleman |  OK  |  OK  |  | 
| cnvGSAdata 0.99.1 | Robert Ziman |  OK  |  ERROR  |  | 
| colonCA 1.4.8 | W Sylvia Merk |  OK  |  OK  |  | 
| davidTiling 1.2.14 | Wolfgang Huber |  OK  |  OK  |  | 
| DLBCL 1.3.3 | Marcus Dittrich |  OK  |  OK  |  | 
| dressCheck 0.1.4 | Vincent Carey |  OK  |  OK  |  | 
| dsQTL 0.0.8 | VJ Carey |  ERROR  |  skipped  |  | 
| dyebiasexamples 1.0.7 | Philip Lijnzaad |  OK  |  WARNINGS  |  | 
| EatonEtAlChIPseq 0.0.6 | Patrick Aboyoun |  OK  |  OK  |  | 
| ecoliLeucine 1.2.7 | Laurent Gautier |  OK  |  OK  |  | 
| encoDnaseI 0.1.13 | VJ Carey |  ERROR  |  skipped  |  | 
| estrogen 1.8.7 | R. Gentleman |  OK  |  OK  |  | 
| faahKO 1.2.8 | Colin A. Smith |  OK  |  OK  |  | 
| facsDorit 1.4.4 | Florian Hahne |  OK  |  OK  |  | 
| ffpeExampleData 1.0.0 | Levi Waldron |  OK  |  OK  |  | 
| fibroEset 1.4.6 | Sylvia Merk |  OK  |  OK  |  | 
| flowWorkspaceData 0.99.6 | Greg Finak |  OK  |  OK  |  | 
| frmaExampleData 0.99.2 | Matthew N. McCall |  OK  |  OK  |  | 
| gageData 1.1.3 | Weijun Luo |  OK  |  OK  |  | 
| gaschYHS 1.0.6 | Vince Carey |  OK  |  OK  |  | 
| gatingMLData 1.0.4 | Nishant Gopalakrishnan |  OK  |  OK  |  | 
| gcspikelite 1.0.6 | Mark Robinson |  OK  |  WARNINGS  |  | 
| geneLenDataBase 0.99.8 | Matthew Young |  OK  |  WARNINGS  |  | 
| GGdata 1.0.18 | VJ Carey |  OK  |  OK  |  | 
| ggtut 0.0.41 | VJ Carey |  OK  |  OK  |  | 
| golubEsets 1.4.10 | Vince Carey |  OK  |  OK  |  | 
| GSVAdata 0.99.3 | Robert Castelo |  OK  |  OK  |  | 
| GWASdata 1.0.0 | Stephanie Gogarten |  OK  |  OK  |  | 
| hapmap100khind 1.3.34 | Benilton Carvalho |  OK  |  OK  |  | 
| hapmap100kxba 1.3.5 | Benilton Carvalho |  OK  |  OK  |  | 
| hapmap500knsp 1.3.5 | Benilton Carvalho |  OK  |  OK  |  | 
| hapmap500ksty 1.3.5 | Benilton Carvalho |  OK  |  OK  |  | 
| hapmapsnp5 1.3.5 | Benilton Carvalho |  OK  |  OK  |  | 
| hapmapsnp6 1.3.6 | Benilton Carvalho |  OK  |  ERROR  |  | 
| harbChIP 1.0.7 | VJ Carey |  OK  |  OK  |  | 
| HEEBOdata 1.0.2 | Agnes Paquet |  OK  |  OK  |  | 
| hgu133abarcodevecs 1.0.3 | Matthew N. McCall |  OK  |  OK  |  | 
| hgu133afrmavecs 1.1.8 | Matthew N. McCall |  OK  |  WARNINGS  |  | 
| hgu133plus2barcodevecs 1.0.3 | Matthew N. McCall |  OK  |  OK  |  | 
| hgu133plus2frmavecs 1.1.8 | Matthew N. McCall |  OK  |  OK  |  | 
| hgu2beta7 1.2.5 | Bioconductor Package Maintainer |  OK  |  WARNINGS  |  | 
| HIVcDNAvantWout03 1.2.5 | Chris Fraley |  OK  |  OK  |  | 
| hmyriB36 0.99.14 | Vincent Carey |  OK  |  OK  |  | 
| humanStemCell 0.2.5 | R. Gentleman |  OK  |  OK  |  | 
| IlluminaHumanMethylation450kmanifest 0.2.0 | Kasper Daniel Hansen |  OK  |  OK  |  | 
| ind1KG 0.1.12 | VJ Carey |  OK  |  OK  |  | 
| iontreeData 0.99.5 | Mingshu Cao |  OK  |  OK  |  | 
| ITALICSData 2.0.4 | Guillem Rigaill |  OK  |  OK  |  | 
| Iyer517 1.4.9 | Vince Carey |  OK  |  OK  |  | 
| kidpack 1.5.9 | Wolfgang Huber |  OK  |  WARNINGS  |  | 
| leeBamViews 0.99.17 | VJ Carey |  ERROR  |  skipped  |  | 
| LiebermanAidenHiC2009 0.1.10 | Felix Klein |  OK  |  WARNINGS  |  | 
| lumiBarnes 1.3.7 | Pan Du |  OK  |  OK  |  | 
| lungExpression 0.0.12 | Robert Scharpf |  OK  |  OK  |  | 
| maqcExpression4plex 1.4.1 | Benilton Carvalho |  OK  |  OK  |  | 
| MAQCsubset 1.0.24 | VJ Carey |  OK  |  OK  |  | 
| MAQCsubsetAFX 1.0.5 | Laurent Gatto |  OK  |  WARNINGS  |  | 
| MAQCsubsetILM 1.0.4 | Laurent Gatto |  OK  |  OK  |  | 
| MEEBOdata 1.0.2 | Agnes Paquet |  OK  |  OK  |  | 
| minfiData 0.2.0 | Kasper Daniel Hansen |  OK  |  OK  |  | 
| mosaicsExample 0.99.5 | Dongjun Chung |  OK  |  OK  |  | 
| mouse4302barcodevecs 1.0.3 | Matthew N. McCall |  OK  |  OK  |  | 
| mouse4302frmavecs 1.1.8 | Matthew N. McCall |  OK  |  OK  |  | 
| msdata 0.1.7 | Steffen Neumann |  OK  |  WARNINGS  |  | 
| mvoutData 0.99.7 | VJ Carey |  OK  |  OK  |  | 
| NCIgraphData 0.99.3 | Laurent Jacob |  OK  |  OK  |  | 
| Neve2006 0.1.13 | VJ Carey |  OK  |  OK  |  | 
| pasilla 0.2.9 | Alejandro Reyes |  OK  |  WARNINGS  |  | 
| pasillaBamSubset 0.0.1 | H. Pages |  OK  |  OK  |  | 
| pcaGoPromoter.Hs.hg19 0.99.1 | Morten Hansen, |  OK  |  OK  |  | 
| pcaGoPromoter.Mm.mm9 0.99.1 | Morten Hansen, |  OK  |  OK  |  | 
| pcaGoPromoter.Rn.rn4 0.99.1 | Morten Hansen, |  OK  |  OK  |  | 
| ppiData 0.1.16 | Tony Chiang |  OK  |  WARNINGS  |  | 
| PREDAsampledata 0.2.4 | Francesco Ferrari |  OK  |  OK  |  | 
| ProData 1.0.5 | Xiaochun Li |  OK  |  OK  |  | 
| pumadata 1.0.5 | Richard Pearson |  OK  |  WARNINGS  |  | 
| rheumaticConditionWOLLBOLD 1.0.0 | Alejandro Quiroz-Zarate |  OK  |  OK  |  | 
| RNAinteractMAPK 1.0.3 | Bernd Fischer |  OK  |  OK  |  | 
| RnaSeqTutorial 0.0.8 | Nicolas Delhomme |  ERROR  |  skipped  |  | 
| serumStimulation 0.99.1 | Morten Hansen, |  OK  |  OK  |  | 
| simpIntLists 0.99.1 | Kircicegi Korkmaz |  OK  |  OK  |  | 
| SNAData 1.8.3 | Denise Scholtens |  OK  |  OK  |  | 
| SpikeIn 1.4.7 | Rafael A. Irizarry |  OK  |  WARNINGS  |  | 
| SpikeInSubset 1.2.10 | Rafael A. Irizarry |  OK  |  WARNINGS  |  | 
| stjudem 1.2.6 | Joern Toedling |  OK  |  OK  |  | 
| TargetSearchData 1.0.5 | Alvaro Cuadros-Inostroza |  OK  |  OK  |  | 
| TCGAMethylation450k 0.99.1 | Sean Davis |  OK  |  OK  |  | 
| tinesath1cdf 1.0.6 | Tine Casneuf |  OK  |  OK  |  | 
| tinesath1probe 1.0.6 | Tine Casneuf |  OK  |  WARNINGS  |  | 
| tweeDEseqCountData 1.0.5 | Juan R Gonzalez |  OK  |  OK  |  | 
| XhybCasneuf 1.0.8 | Tineke Casneuf |  OK  |  OK  |  | 
| yeastCC 1.2.15 | Sandrine Dudoit |  OK  |  WARNINGS  |  | 
| yeastExpData 0.9.19 | R. Gentleman |  OK  |  WARNINGS  |  | 
| yeastGSData 0.1.7 | R. Gentleman |  OK  |  OK  |  | 
| yeastNagalakshmi 0.99.3 | Bioconductor Package Maintainer |  OK  |  OK  |  | 
| yeastRNASeq 0.0.5 | J. Bullard |  OK  |  OK  |  |