All our mirrors of open source software are available via http, https, ftp and an onion service. More information about our mirrors including statistics and contact information is available on our mirror info pages.
For information about dotsrc.org and our other services please go to our website.
| File Name ↓ | File Size ↓ | Date ↓ | 
|---|---|---|
| Parent directory/ | - | - | 
| ALL/ | - | 2015-10-07 23:21:32 | 
| ALLMLL/ | - | 2015-10-07 23:21:32 | 
| ARRmData/ | - | 2015-10-07 23:21:47 | 
| Affyhgu133A2Expr/ | - | 2015-10-07 23:21:53 | 
| Affyhgu133Plus2Expr/ | - | 2015-10-07 23:21:53 | 
| Affyhgu133aExpr/ | - | 2015-10-07 23:21:52 | 
| AffymetrixDataTestFiles/ | - | 2015-10-07 23:21:32 | 
| Affymoe4302Expr/ | - | 2015-10-07 23:21:52 | 
| AmpAffyExample/ | - | 2015-10-07 23:21:32 | 
| BeadArrayUseCases/ | - | 2015-10-07 23:21:43 | 
| CCl4/ | - | 2015-10-07 23:21:35 | 
| CLL/ | - | 2015-10-07 23:21:32 | 
| COHCAPanno/ | - | 2015-10-07 23:21:52 | 
| COPDSexualDimorphism.data/ | - | 2015-10-07 23:21:53 | 
| COSMIC.67/ | - | 2015-10-07 23:21:51 | 
| CRCL18/ | - | 2015-10-07 23:21:54 | 
| CardinalWorkflows/ | - | 2015-10-07 23:21:56 | 
| ChAMPdata/ | - | 2015-10-07 23:21:51 | 
| ChIPXpressData/ | - | 2015-10-07 23:21:45 | 
| ChimpHumanBrainData/ | - | 2015-10-07 23:21:52 | 
| ConnectivityMap/ | - | 2015-10-07 23:21:48 | 
| CopyNumber450kData/ | - | 2015-10-07 23:21:52 | 
| CopyhelpeR/ | - | 2015-10-07 23:21:57 | 
| DLBCL/ | - | 2015-10-07 23:21:39 | 
| DMRcatedata/ | - | 2015-10-07 23:21:53 | 
| DREAM4/ | - | 2015-10-07 23:21:48 | 
| DeSousa2013/ | - | 2015-10-07 23:21:49 | 
| DmelSGI/ | - | 2015-10-07 23:21:56 | 
| DonaPLLP2013/ | - | 2015-10-07 23:21:49 | 
| DrugVsDiseasedata/ | - | 2015-10-07 23:21:48 | 
| DvDdata/ | - | 2015-10-07 23:21:47 | 
| EatonEtAlChIPseq/ | - | 2015-10-07 23:21:39 | 
| FANTOM3and4CAGE/ | - | 2015-10-07 23:21:47 | 
| Fletcher2013a/ | - | 2015-10-07 23:21:50 | 
| Fletcher2013b/ | - | 2015-10-07 23:21:50 | 
| FlowSorted.Blood.450k/ | - | 2015-10-07 23:21:50 | 
| FlowSorted.DLPFC.450k/ | - | 2015-10-07 23:21:53 | 
| FunciSNP.data/ | - | 2015-10-07 23:21:44 | 
| GGdata/ | - | 2015-10-07 23:21:33 | 
| GSBenchMark/ | - | 2015-10-07 23:21:54 | 
| GSVAdata/ | - | 2015-10-07 23:21:41 | 
| GWASdata/ | - | 2015-10-07 23:21:42 | 
| HD2013SGI/ | - | 2015-10-07 23:21:48 | 
| HEEBOdata/ | - | 2015-10-07 23:21:33 | 
| HIVcDNAvantWout03/ | - | 2015-10-07 23:21:33 | 
| HSMMSingleCell/ | - | 2015-10-07 23:21:53 | 
| HiCDataHumanIMR90/ | - | 2015-10-07 23:21:54 | 
| HiCDataLymphoblast/ | - | 2015-10-07 23:21:52 | 
| Hiiragi2013/ | - | 2015-10-07 23:21:48 | 
| ITALICSData/ | - | 2015-10-07 23:21:37 | 
| Illumina450ProbeVariants.db/ | - | 2015-10-07 23:21:51 | 
| IlluminaDataTestFiles/ | - | 2015-10-07 23:21:50 | 
| Iyer517/ | - | 2015-10-07 23:21:33 | 
| JASPAR2014/ | - | 2015-10-07 23:21:51 | 
| KEGGandMetacoreDzPathwaysGEO/ | - | 2015-10-07 23:21:53 | 
| KEGGdzPathwaysGEO/ | - | 2015-10-07 23:21:45 | 
| LiebermanAidenHiC2009/ | - | 2015-10-07 23:21:41 | 
| ListerEtAlBSseq/ | - | 2015-10-07 23:21:55 | 
| LungCancerACvsSCCGEO/ | - | 2015-10-07 23:21:49 | 
| LungCancerLines/ | - | 2015-10-07 23:21:46 | 
| MAQCsubset/ | - | 2015-10-07 23:21:34 | 
| MAQCsubsetAFX/ | - | 2015-10-07 23:21:36 | 
| MAQCsubsetILM/ | - | 2015-10-07 23:21:37 | 
| MEDIPSData/ | - | 2015-10-07 23:21:45 | 
| MEEBOdata/ | - | 2015-10-07 23:21:34 | 
| MMDiffBamSubset/ | - | 2015-10-07 23:21:49 | 
| MSBdata/ | - | 2015-10-07 23:21:53 | 
| MUGAExampleData/ | - | 2015-10-07 23:21:54 | 
| MethylAidData/ | - | 2015-10-07 23:21:57 | 
| Mulder2012/ | - | 2015-10-07 23:21:44 | 
| NCIgraphData/ | - | 2015-10-07 23:21:41 | 
| NGScopyData/ | - | 2015-10-07 23:21:55 | 
| Neve2006/ | - | 2015-10-07 23:21:35 | 
| PREDAsampledata/ | - | 2015-10-07 23:21:42 | 
| PWMEnrich.Dmelanogaster.background/ | - | 2015-10-07 23:21:44 | 
| PWMEnrich.Hsapiens.background/ | - | 2015-10-07 23:21:51 | 
| PWMEnrich.Mmusculus.background/ | - | 2015-10-07 23:21:51 | 
| PathNetData/ | - | 2015-10-07 23:21:47 | 
| ProData/ | - | 2015-10-07 23:21:34 | 
| RIPSeekerData/ | - | 2015-10-07 23:21:46 | 
| RMassBankData/ | - | 2015-10-07 23:21:45 | 
| RNAinteractMAPK/ | - | 2015-10-07 23:21:40 | 
| RNAseqData.HNRNPC.bam.chr14/ | - | 2015-10-07 23:21:49 | 
| RRBSdata/ | - | 2015-10-07 23:21:55 | 
| RUVnormalizeData/ | - | 2015-10-07 23:21:54 | 
| RforProteomics/ | - | 2015-10-07 23:21:46 | 
| RnBeads.hg19/ | - | 2015-10-07 23:21:57 | 
| RnBeads.mm10/ | - | 2015-10-07 23:21:58 | 
| RnBeads.mm9/ | - | 2015-10-07 23:21:58 | 
| RnBeads.rn5/ | - | 2015-10-07 23:21:58 | 
| RnaSeqSampleSizeData/ | - | 2015-10-07 23:21:56 | 
| RnaSeqTutorial/ | - | 2015-10-07 23:21:43 | 
| SCLCBam/ | - | 2015-10-07 23:21:57 | 
| SNAData/ | - | 2015-10-07 23:21:34 | 
| SNAGEEdata/ | - | 2015-10-07 23:21:46 | 
| SVM2CRMdata/ | - | 2015-10-07 23:21:57 | 
| SomatiCAData/ | - | 2015-10-07 23:21:47 | 
| SomaticCancerAlterations/ | - | 2015-10-07 23:21:51 | 
| SpikeIn/ | - | 2015-10-07 23:21:34 | 
| SpikeInSubset/ | - | 2015-10-07 23:21:34 | 
| TBX20BamSubset/ | - | 2015-10-07 23:21:45 | 
| TCGAMethylation450k/ | - | 2015-10-07 23:21:42 | 
| TCGAcrcmRNA/ | - | 2015-10-07 23:21:55 | 
| TCGAcrcmiRNA/ | - | 2015-10-07 23:21:55 | 
| TargetScoreData/ | - | 2015-10-07 23:21:50 | 
| TargetSearchData/ | - | 2015-10-07 23:21:38 | 
| WES.1KG.WUGSC/ | - | 2015-10-07 23:21:56 | 
| XhybCasneuf/ | - | 2015-10-07 23:21:36 | 
| affycompData/ | - | 2015-10-07 23:21:40 | 
| affydata/ | - | 2015-10-07 23:21:31 | 
| airway/ | - | 2015-10-07 23:21:54 | 
| antiProfilesData/ | - | 2015-10-07 23:21:48 | 
| bcellViper/ | - | 2015-10-07 23:21:53 | 
| beadarrayExampleData/ | - | 2015-10-07 23:21:42 | 
| beta7/ | - | 2015-10-07 23:21:32 | 
| bladderbatch/ | - | 2015-10-07 23:21:42 | 
| blimaTestingData/ | - | 2015-10-07 23:21:53 | 
| breastCancerMAINZ/ | - | 2015-10-07 23:21:40 | 
| breastCancerNKI/ | - | 2015-10-07 23:21:40 | 
| breastCancerTRANSBIG/ | - | 2015-10-07 23:21:40 | 
| breastCancerUNT/ | - | 2015-10-07 23:21:40 | 
| breastCancerUPP/ | - | 2015-10-07 23:21:40 | 
| breastCancerVDX/ | - | 2015-10-07 23:21:41 | 
| bronchialIL13/ | - | 2015-10-07 23:21:32 | 
| bsseqData/ | - | 2015-10-07 23:21:45 | 
| cMap2data/ | - | 2015-10-07 23:21:47 | 
| cancerdata/ | - | 2015-10-07 23:21:44 | 
| ccTutorial/ | - | 2015-10-07 23:21:37 | 
| ceu1kg/ | - | 2015-10-07 23:21:40 | 
| ceu1kgv/ | - | 2015-10-07 23:21:52 | 
| ceuhm3/ | - | 2015-10-07 23:21:39 | 
| cgdv17/ | - | 2015-10-07 23:21:43 | 
| charmData/ | - | 2015-10-07 23:21:39 | 
| cheung2010/ | - | 2015-10-07 23:21:41 | 
| chipenrich.data/ | - | 2015-10-07 23:21:50 | 
| cnvGSAdata/ | - | 2015-10-07 23:21:44 | 
| colonCA/ | - | 2015-10-07 23:21:32 | 
| curatedBladderData/ | - | 2015-10-07 23:21:50 | 
| curatedBreastData/ | - | 2015-10-07 23:21:57 | 
| curatedCRCData/ | - | 2015-10-07 23:21:52 | 
| curatedOvarianData/ | - | 2015-10-07 23:21:46 | 
| davidTiling/ | - | 2015-10-07 23:21:32 | 
| derfinderData/ | - | 2015-10-07 23:21:55 | 
| diggitdata/ | - | 2015-10-07 23:21:57 | 
| dressCheck/ | - | 2015-10-07 23:21:39 | 
| dsQTL/ | - | 2015-10-07 23:21:44 | 
| dyebiasexamples/ | - | 2015-10-07 23:21:38 | 
| ecoliLeucine/ | - | 2015-10-07 23:21:32 | 
| encoDnaseI/ | - | 2015-10-07 23:21:37 | 
| estrogen/ | - | 2015-10-07 23:21:32 | 
| faahKO/ | - | 2015-10-07 23:21:32 | 
| fabiaData/ | - | 2015-10-07 23:21:45 | 
| facopy.annot/ | - | 2015-10-07 23:21:55 | 
| facsDorit/ | - | 2015-10-07 23:21:32 | 
| ffpeExampleData/ | - | 2015-10-07 23:21:44 | 
| fibroEset/ | - | 2015-10-07 23:21:33 | 
| fission/ | - | 2015-10-07 23:21:54 | 
| flowFitExampleData/ | - | 2015-10-07 23:21:49 | 
| flowWorkspaceData/ | - | 2015-10-07 23:21:41 | 
| frmaExampleData/ | - | 2015-10-07 23:21:38 | 
| gageData/ | - | 2015-10-07 23:21:40 | 
| gaschYHS/ | - | 2015-10-07 23:21:33 | 
| gatingMLData/ | - | 2015-10-07 23:21:33 | 
| gcspikelite/ | - | 2015-10-07 23:21:38 | 
| geneLenDataBase/ | - | 2015-10-07 23:21:39 | 
| genomationData/ | - | 2015-10-07 23:21:56 | 
| geuvPack/ | - | 2015-10-07 23:21:56 | 
| geuvStore/ | - | 2015-10-07 23:21:56 | 
| ggtut/ | - | 2015-10-07 23:21:41 | 
| golubEsets/ | - | 2015-10-07 23:21:33 | 
| grndata/ | - | 2015-10-07 23:21:57 | 
| gskb/ | - | 2015-10-07 23:21:57 | 
| h5vcData/ | - | 2015-10-07 23:21:51 | 
| hapmap100khind/ | - | 2015-10-07 23:21:36 | 
| hapmap100kxba/ | - | 2015-10-07 23:21:35 | 
| hapmap500knsp/ | - | 2015-10-07 23:21:36 | 
| hapmap500ksty/ | - | 2015-10-07 23:21:36 | 
| hapmapsnp5/ | - | 2015-10-07 23:21:37 | 
| hapmapsnp6/ | - | 2015-10-07 23:21:37 | 
| harbChIP/ | - | 2015-10-07 23:21:33 | 
| healthyFlowData/ | - | 2015-10-07 23:21:52 | 
| hgu133abarcodevecs/ | - | 2015-10-07 23:21:39 | 
| hgu133plus2barcodevecs/ | - | 2015-10-07 23:21:39 | 
| hgu2beta7/ | - | 2015-10-07 23:21:33 | 
| hmyriB36/ | - | 2015-10-07 23:21:37 | 
| humanStemCell/ | - | 2015-10-07 23:21:37 | 
| ind1KG/ | - | 2015-10-07 23:21:38 | 
| iontreeData/ | - | 2015-10-07 23:21:42 | 
| kidpack/ | - | 2015-10-07 23:21:33 | 
| leeBamViews/ | - | 2015-10-07 23:21:39 | 
| leukemiasEset/ | - | 2015-10-07 23:21:48 | 
| lumiBarnes/ | - | 2015-10-07 23:21:35 | 
| lungExpression/ | - | 2015-10-07 23:21:35 | 
| mAPKLData/ | - | 2015-10-07 23:21:56 | 
| mammaPrintData/ | - | 2015-10-07 23:21:49 | 
| maqcExpression4plex/ | - | 2015-10-07 23:21:36 | 
| metaMSdata/ | - | 2015-10-07 23:21:53 | 
| miRNATarget/ | - | 2015-10-07 23:21:44 | 
| minfiData/ | - | 2015-10-07 23:21:42 | 
| mitoODEdata/ | - | 2015-10-07 23:21:49 | 
| mosaicsExample/ | - | 2015-10-07 23:21:40 | 
| mouse4302barcodevecs/ | - | 2015-10-07 23:21:39 | 
| msd16s/ | - | 2015-10-07 23:21:54 | 
| msdata/ | - | 2015-10-07 23:21:37 | 
| mvoutData/ | - | 2015-10-07 23:21:38 | 
| pRolocdata/ | - | 2015-10-07 23:21:46 | 
| parathyroidSE/ | - | 2015-10-07 23:21:47 | 
| pasilla/ | - | 2015-10-07 23:21:41 | 
| pasillaBamSubset/ | - | 2015-10-07 23:21:44 | 
| pcaGoPromoter.Hs.hg19/ | - | 2015-10-07 23:21:43 | 
| pcaGoPromoter.Mm.mm9/ | - | 2015-10-07 23:21:43 | 
| pcaGoPromoter.Rn.rn4/ | - | 2015-10-07 23:21:43 | 
| pd.atdschip.tiling/ | - | 2015-10-07 23:21:45 | 
| pepDat/ | - | 2015-10-07 23:21:54 | 
| ppiData/ | - | 2015-10-07 23:21:34 | 
| prebsdata/ | - | 2015-10-07 23:21:49 | 
| pumadata/ | - | 2015-10-07 23:21:35 | 
| rRDPData/ | - | 2015-10-07 23:21:55 | 
| rcellminerData/ | - | 2015-10-07 23:21:57 | 
| rheumaticConditionWOLLBOLD/ | - | 2015-10-07 23:21:43 | 
| seq2pathway.data/ | - | 2015-10-07 23:21:56 | 
| seqCNA.annot/ | - | 2015-10-07 23:21:50 | 
| seqc/ | - | 2015-10-07 23:21:55 | 
| serumStimulation/ | - | 2015-10-07 23:21:43 | 
| seventyGeneData/ | - | 2015-10-07 23:21:49 | 
| shinyMethylData/ | - | 2015-10-07 23:21:54 | 
| simpIntLists/ | - | 2015-10-07 23:21:40 | 
| stemHypoxia/ | - | 2015-10-07 23:21:46 | 
| stjudem/ | - | 2015-10-07 23:21:35 | 
| synapterdata/ | - | 2015-10-07 23:21:45 | 
| tinesath1cdf/ | - | 2015-10-07 23:21:36 | 
| tinesath1probe/ | - | 2015-10-07 23:21:36 | 
| tweeDEseqCountData/ | - | 2015-10-07 23:21:42 | 
| waveTilingData/ | - | 2015-10-07 23:21:44 | 
| yeastCC/ | - | 2015-10-07 23:21:35 | 
| yeastExpData/ | - | 2015-10-07 23:21:35 | 
| yeastGSData/ | - | 2015-10-07 23:21:36 | 
| yeastNagalakshmi/ | - | 2015-10-07 23:21:41 | 
| yeastRNASeq/ | - | 2015-10-07 23:21:38 | 
| yri1kgv/ | - | 2015-10-07 23:21:52 | 
| zebrafishRNASeq/ | - | 2015-10-07 23:21:53 | 
| 120px-Blue_Light_Icon.svg.png | 7.1 KiB | 2015-10-07 23:20:43 | 
| 120px-Green_Light_Icon.svg.png | 7.1 KiB | 2015-10-07 23:20:43 | 
| 120px-Red_Light_Icon.svg.png | 7.0 KiB | 2015-10-07 23:20:43 | 
| DEVEL3b-green2.png | 742 B | 2015-10-07 23:20:43 | 
| STATUS_DB.txt | 91.3 KiB | 2015-10-07 23:20:41 | 
| index.html | 862.1 KiB | 2015-10-07 23:22:04 | 
| meat-index.txt | 47.7 KiB | 2015-10-07 23:20:41 | 
| moscato2-NodeInfo.html | 6.0 KiB | 2015-10-07 23:22:01 | 
| moscato2-R-instpkgs.html | 83.3 KiB | 2015-10-07 23:22:01 | 
| moscato2-index.html | 217.7 KiB | 2015-10-07 23:22:00 | 
| petty-NodeInfo.html | 6.1 KiB | 2015-10-07 23:22:01 | 
| petty-R-instpkgs.html | 82.1 KiB | 2015-10-07 23:22:01 | 
| petty-index.html | 211.9 KiB | 2015-10-07 23:22:01 | 
| report.css | 7.9 KiB | 2015-10-07 23:20:43 | 
| report.js | 5.1 KiB | 2015-10-07 23:20:43 | 
| report.tgz | 1.6 MiB | 2015-10-07 23:22:05 | 
| zin2-NodeInfo.html | 5.8 KiB | 2015-10-07 23:22:01 | 
| zin2-R-instpkgs.html | 82.9 KiB | 2015-10-07 23:22:01 | 
| zin2-index.html | 233.0 KiB | 2015-10-07 23:21:59 |