| Back to Build/check report for BioC 3.10 experimental data |
This page was generated on 2020-04-14 17:46:22 -0400 (Tue, 14 Apr 2020).
| Package 190/384 | Hostname | OS / Arch | INSTALL | BUILD | CHECK | ||||||
| KEGGandMetacoreDzPathwaysGEO 1.6.0 Gaurav Bhatti
| malbec1 | Linux (Ubuntu 18.04.4 LTS) / x86_64 | OK | OK | [ OK ] |
| Package: KEGGandMetacoreDzPathwaysGEO |
| Version: 1.6.0 |
| Command: /home/biocbuild/bbs-3.10-bioc/R/bin/R CMD check --install=check:KEGGandMetacoreDzPathwaysGEO.install-out.txt --library=/home/biocbuild/bbs-3.10-bioc/R/library --no-vignettes --timings KEGGandMetacoreDzPathwaysGEO_1.6.0.tar.gz |
| StartedAt: 2020-04-14 13:21:10 -0400 (Tue, 14 Apr 2020) |
| EndedAt: 2020-04-14 13:22:02 -0400 (Tue, 14 Apr 2020) |
| EllapsedTime: 52.1 seconds |
| RetCode: 0 |
| Status: OK |
| CheckDir: KEGGandMetacoreDzPathwaysGEO.Rcheck |
| Warnings: 0 |
##############################################################################
##############################################################################
###
### Running command:
###
### /home/biocbuild/bbs-3.10-bioc/R/bin/R CMD check --install=check:KEGGandMetacoreDzPathwaysGEO.install-out.txt --library=/home/biocbuild/bbs-3.10-bioc/R/library --no-vignettes --timings KEGGandMetacoreDzPathwaysGEO_1.6.0.tar.gz
###
##############################################################################
##############################################################################
* using log directory ‘/home/biocbuild/bbs-3.10-data-experiment/meat/KEGGandMetacoreDzPathwaysGEO.Rcheck’
* using R version 3.6.3 (2020-02-29)
* using platform: x86_64-pc-linux-gnu (64-bit)
* using session charset: UTF-8
* using option ‘--no-vignettes’
* checking for file ‘KEGGandMetacoreDzPathwaysGEO/DESCRIPTION’ ... OK
* checking extension type ... Package
* this is package ‘KEGGandMetacoreDzPathwaysGEO’ version ‘1.6.0’
* checking package namespace information ... OK
* checking package dependencies ... OK
* checking if this is a source package ... OK
* checking if there is a namespace ... OK
* checking for hidden files and directories ... OK
* checking for portable file names ... OK
* checking for sufficient/correct file permissions ... OK
* checking whether package ‘KEGGandMetacoreDzPathwaysGEO’ can be installed ... OK
* checking installed package size ... NOTE
installed size is 98.7Mb
sub-directories of 1Mb or more:
data 98.5Mb
* checking package directory ... OK
* checking ‘build’ directory ... OK
* checking DESCRIPTION meta-information ... OK
* checking top-level files ... OK
* checking for left-over files ... OK
* checking index information ... OK
* checking package subdirectories ... OK
* checking whether the package can be loaded ... OK
* checking whether the package can be loaded with stated dependencies ... OK
* checking whether the package can be unloaded cleanly ... OK
* checking whether the namespace can be loaded with stated dependencies ... OK
* checking whether the namespace can be unloaded cleanly ... OK
* checking Rd files ... OK
* checking Rd metadata ... OK
* checking Rd cross-references ... OK
* checking for missing documentation entries ... OK
* checking for code/documentation mismatches ... OK
* checking Rd \usage sections ... OK
* checking Rd contents ... OK
* checking for unstated dependencies in examples ... OK
* checking contents of ‘data’ directory ... OK
* checking data for non-ASCII characters ... OK
* checking data for ASCII and uncompressed saves ... OK
* checking files in ‘vignettes’ ... OK
* checking examples ... OK
* checking for unstated dependencies in vignettes ... OK
* checking package vignettes in ‘inst/doc’ ... OK
* checking running R code from vignettes ... SKIPPED
* checking re-building of vignette outputs ... SKIPPED
* checking PDF version of manual ... OK
* DONE
Status: 1 NOTE
See
‘/home/biocbuild/bbs-3.10-data-experiment/meat/KEGGandMetacoreDzPathwaysGEO.Rcheck/00check.log’
for details.
KEGGandMetacoreDzPathwaysGEO.Rcheck/00install.out
############################################################################## ############################################################################## ### ### Running command: ### ### /home/biocbuild/bbs-3.10-bioc/R/bin/R CMD INSTALL KEGGandMetacoreDzPathwaysGEO ### ############################################################################## ############################################################################## * installing to library ‘/home/biocbuild/bbs-3.10-bioc/R/library’ * installing *source* package ‘KEGGandMetacoreDzPathwaysGEO’ ... ** using staged installation ** data ** help *** installing help indices ** building package indices ** installing vignettes ** testing if installed package can be loaded from temporary location ** testing if installed package can be loaded from final location ** testing if installed package keeps a record of temporary installation path * DONE (KEGGandMetacoreDzPathwaysGEO)
KEGGandMetacoreDzPathwaysGEO.Rcheck/KEGGandMetacoreDzPathwaysGEO-Ex.timings
| name | user | system | elapsed | |
| GSE1145 | 0.344 | 0.012 | 0.354 | |
| GSE11906 | 2.840 | 0.040 | 2.884 | |
| GSE14924_CD4 | 0.228 | 0.012 | 0.242 | |
| GSE14924_CD8 | 0.240 | 0.004 | 0.245 | |
| GSE16759 | 0.328 | 0.000 | 0.332 | |
| GSE19420 | 0.224 | 0.004 | 0.229 | |
| GSE20164 | 0.072 | 0.000 | 0.070 | |
| GSE22780 | 0.216 | 0.008 | 0.226 | |
| GSE23878 | 0.760 | 0.000 | 0.758 | |
| GSE24739_G0 | 0.432 | 0.008 | 0.442 | |
| GSE24739_G1 | 0.432 | 0.004 | 0.439 | |
| GSE30153 | 0.524 | 0.012 | 0.534 | |
| GSE32676 | 0.664 | 0.008 | 0.672 | |
| GSE38666_epithelia | 0.34 | 0.00 | 0.34 | |
| GSE38666_stroma | 0.308 | 0.008 | 0.314 | |
| GSE4183 | 0.248 | 0.016 | 0.267 | |
| GSE42057 | 0.912 | 0.016 | 0.929 | |
| GSE7305 | 0.680 | 0.016 | 0.696 | |
| KEGGandMetacoreDzPathwaysGEO-package | 0.764 | 0.016 | 0.801 | |