| Back to Build/check report for BioC 3.12 experimental data | 
 | 
This page was generated on 2021-05-06 14:10:05 -0400 (Thu, 06 May 2021).
| To the developers/maintainers of the beta7 package: Please make sure to use the following settings in order to reproduce any error or warning you see on this page. | 
| Package 26/398 | Hostname | OS / Arch | INSTALL | BUILD | CHECK | ||||||||
| beta7 1.28.0  (landing page) Jean Yang 
 | malbec1 | Linux (Ubuntu 18.04.5 LTS) / x86_64 | OK | OK | WARNINGS |  | |||||||
| Package: beta7 | 
| Version: 1.28.0 | 
| Command: /home/biocbuild/bbs-3.12-bioc/R/bin/R CMD build --keep-empty-dirs --no-resave-data beta7 | 
| StartedAt: 2021-05-06 10:20:43 -0400 (Thu, 06 May 2021) | 
| EndedAt: 2021-05-06 10:20:52 -0400 (Thu, 06 May 2021) | 
| EllapsedTime: 8.8 seconds | 
| RetCode: 0 | 
| Status: OK | 
| PackageFile: beta7_1.28.0.tar.gz | 
| PackageFileSize: 15.18 MiB | 
############################################################################## ############################################################################## ### ### Running command: ### ### /home/biocbuild/bbs-3.12-bioc/R/bin/R CMD build --keep-empty-dirs --no-resave-data beta7 ### ############################################################################## ############################################################################## * checking for file ‘beta7/DESCRIPTION’ ... OK * preparing ‘beta7’: * checking DESCRIPTION meta-information ... OK * checking for LF line-endings in source and make files and shell scripts * checking for empty or unneeded directories * looking to see if a ‘data/datalist’ file should be added * building ‘beta7_1.28.0.tar.gz’