| Back to Build/check report for BioC 3.12 experimental data | 
 | 
This page was generated on 2021-05-06 14:10:11 -0400 (Thu, 06 May 2021).
| To the developers/maintainers of the minionSummaryData package: Please make sure to use the following settings in order to reproduce any error or warning you see on this page. | 
| Package 231/398 | Hostname | OS / Arch | INSTALL | BUILD | CHECK | ||||||||
| minionSummaryData 1.20.0  (landing page) Mike Smith 
 | malbec1 | Linux (Ubuntu 18.04.5 LTS) / x86_64 | OK | OK | OK |  | |||||||
| Package: minionSummaryData | 
| Version: 1.20.0 | 
| Command: /home/biocbuild/bbs-3.12-bioc/R/bin/R CMD build --keep-empty-dirs --no-resave-data minionSummaryData | 
| StartedAt: 2021-05-06 11:06:44 -0400 (Thu, 06 May 2021) | 
| EndedAt: 2021-05-06 11:06:58 -0400 (Thu, 06 May 2021) | 
| EllapsedTime: 13.9 seconds | 
| RetCode: 0 | 
| Status: OK | 
| PackageFile: minionSummaryData_1.20.0.tar.gz | 
| PackageFileSize: 134.7 MiB | 
############################################################################## ############################################################################## ### ### Running command: ### ### /home/biocbuild/bbs-3.12-bioc/R/bin/R CMD build --keep-empty-dirs --no-resave-data minionSummaryData ### ############################################################################## ############################################################################## * checking for file ‘minionSummaryData/DESCRIPTION’ ... OK * preparing ‘minionSummaryData’: * checking DESCRIPTION meta-information ... OK * installing the package to build vignettes * creating vignettes ... OK * checking for LF line-endings in source and make files and shell scripts * checking for empty or unneeded directories * looking to see if a ‘data/datalist’ file should be added * building ‘minionSummaryData_1.20.0.tar.gz’