Package: BioImageDbs Version: 1.0.5 Command: /home/biocbuild/bbs-3.13-bioc/R/bin/R CMD build --keep-empty-dirs --no-resave-data BioImageDbs StartedAt: 2021-10-16 11:29:24 -0400 (Sat, 16 Oct 2021) EndedAt: 2021-10-16 11:29:59 -0400 (Sat, 16 Oct 2021) EllapsedTime: 35.6 seconds RetCode: 0 Status: OK PackageFile: BioImageDbs_1.0.5.tar.gz PackageFileSize: 11.59 MiB