Package: FlowSorted.Blood.EPIC Version: 1.10.1 Command: /home/biocbuild/bbs-3.13-bioc/R/bin/R CMD INSTALL FlowSorted.Blood.EPIC StartedAt: 2021-10-16 11:16:53 -0400 (Sat, 16 Oct 2021) EndedAt: 2021-10-16 11:17:30 -0400 (Sat, 16 Oct 2021) EllapsedTime: 36.7 seconds RetCode: 0 Status: OK