git_url: https://git.bioconductor.org/packages/HarmonizedTCGAData git_branch: RELEASE_3_13 git_last_commit: ad9dc06 git_last_commit_date: 2021-05-19 12:02:20 -0400 (Wed, 19 May 2021) Package: HarmonizedTCGAData Version: 1.14.0 Maintainer: Tianle Ma MaintainerEmail: tianlema at buffalo.edu