Package: QDNAseq.mm10 Version: 1.22.0 Command: /home/biocbuild/bbs-3.13-bioc/R/bin/R CMD build --keep-empty-dirs --no-resave-data QDNAseq.mm10 StartedAt: 2021-10-16 12:28:31 -0400 (Sat, 16 Oct 2021) EndedAt: 2021-10-16 12:28:34 -0400 (Sat, 16 Oct 2021) EllapsedTime: 3.4 seconds RetCode: 0 Status: OK PackageFile: QDNAseq.mm10_1.22.0.tar.gz PackageFileSize: 31.18 MiB