Package: ReactomeGSA.data Version: 1.6.0 Command: /home/biocbuild/bbs-3.13-bioc/R/bin/R CMD build --keep-empty-dirs --no-resave-data ReactomeGSA.data StartedAt: 2021-10-16 12:28:52 -0400 (Sat, 16 Oct 2021) EndedAt: 2021-10-16 12:28:57 -0400 (Sat, 16 Oct 2021) EllapsedTime: 4.9 seconds RetCode: 0 Status: OK PackageFile: ReactomeGSA.data_1.6.0.tar.gz PackageFileSize: 12.7 MiB