Package: TCGAcrcmRNA Version: 1.12.0 Command: /home/biocbuild/bbs-3.13-bioc/R/bin/R CMD build --keep-empty-dirs --no-resave-data TCGAcrcmRNA StartedAt: 2021-10-16 12:40:49 -0400 (Sat, 16 Oct 2021) EndedAt: 2021-10-16 12:41:01 -0400 (Sat, 16 Oct 2021) EllapsedTime: 11.4 seconds RetCode: 0 Status: OK PackageFile: TCGAcrcmRNA_1.12.0.tar.gz PackageFileSize: 35.26 MiB