Package: hgu133plus2CellScore Version: 1.12.0 Command: /home/biocbuild/bbs-3.13-bioc/R/bin/R CMD build --keep-empty-dirs --no-resave-data hgu133plus2CellScore StartedAt: 2021-10-16 12:10:48 -0400 (Sat, 16 Oct 2021) EndedAt: 2021-10-16 12:11:20 -0400 (Sat, 16 Oct 2021) EllapsedTime: 32.0 seconds RetCode: 0 Status: OK PackageFile: hgu133plus2CellScore_1.12.0.tar.gz PackageFileSize: 40.99 MiB