Package: harbChIP Version: 1.32.0 Command: /home/biocbuild/bbs-3.14-bioc/R/bin/R CMD INSTALL harbChIP StartedAt: 2022-04-13 10:01:55 -0400 (Wed, 13 Apr 2022) EndedAt: 2022-04-13 10:02:07 -0400 (Wed, 13 Apr 2022) EllapsedTime: 11.3 seconds RetCode: 0 Status: OK