Package: CLLmethylation Version: 1.15.0 Command: /home/biocbuild/bbs-3.15-data-experiment/R/bin/R CMD INSTALL CLLmethylation StartedAt: 2022-02-17 05:04:59 -0500 (Thu, 17 Feb 2022) EndedAt: 2022-02-17 05:05:20 -0500 (Thu, 17 Feb 2022) EllapsedTime: 21.2 seconds RetCode: 0 Status: OK