git_url: https://git.bioconductor.org/packages/FlowSorted.Blood.450k git_branch: RELEASE_3_15 git_last_commit: 783f9c7 git_last_commit_date: 2022-04-26 13:11:40 -0400 (Tue, 26 Apr 2022) Package: FlowSorted.Blood.450k Version: 1.34.0 Maintainer: Andrew E Jaffe MaintainerEmail: andrew.jaffe at libd.org