Package: HiCDataHumanIMR90 Version: 1.15.1 Command: /home/biocbuild/bbs-3.15-data-experiment/R/bin/R CMD build --keep-empty-dirs --no-resave-data HiCDataHumanIMR90 StartedAt: 2022-02-17 05:59:55 -0500 (Thu, 17 Feb 2022) EndedAt: 2022-02-17 06:00:58 -0500 (Thu, 17 Feb 2022) EllapsedTime: 62.9 seconds RetCode: 0 Status: OK PackageFile: HiCDataHumanIMR90_1.15.1.tar.gz PackageFileSize: 70.62 MiB