Package: RTCGA.mRNA Version: 1.24.0 Command: /home/biocbuild/bbs-3.15-bioc/R/bin/R CMD build --keep-empty-dirs --no-resave-data RTCGA.mRNA StartedAt: 2022-10-18 10:37:39 -0400 (Tue, 18 Oct 2022) EndedAt: 2022-10-18 10:38:24 -0400 (Tue, 18 Oct 2022) EllapsedTime: 45.1 seconds RetCode: 0 Status: OK PackageFile: RTCGA.mRNA_1.24.0.tar.gz PackageFileSize: 84.98 MiB