Package: crisprScoreData Version: 0.99.10 Command: /home/biocbuild/bbs-3.15-data-experiment/R/bin/R CMD build --keep-empty-dirs --no-resave-data crisprScoreData StartedAt: 2022-02-17 05:43:26 -0500 (Thu, 17 Feb 2022) EndedAt: 2022-02-17 05:44:25 -0500 (Thu, 17 Feb 2022) EllapsedTime: 59.1 seconds RetCode: 0 Status: OK PackageFile: crisprScoreData_0.99.10.tar.gz PackageFileSize: 277.1 KiB