Package: maqcExpression4plex Version: 1.39.0 Command: /home/biocbuild/bbs-3.15-data-experiment/R/bin/R CMD build --keep-empty-dirs --no-resave-data maqcExpression4plex StartedAt: 2022-02-17 06:04:16 -0500 (Thu, 17 Feb 2022) EndedAt: 2022-02-17 06:04:22 -0500 (Thu, 17 Feb 2022) EllapsedTime: 6.0 seconds RetCode: 0 Status: OK PackageFile: maqcExpression4plex_1.39.0.tar.gz PackageFileSize: 6.578 MiB