Package: mtbls2 Version: 1.25.0 Command: /home/biocbuild/bbs-3.15-data-experiment/R/bin/R CMD build --keep-empty-dirs --no-resave-data mtbls2 StartedAt: 2022-02-17 06:08:43 -0500 (Thu, 17 Feb 2022) EndedAt: 2022-02-17 06:10:07 -0500 (Thu, 17 Feb 2022) EllapsedTime: 83.6 seconds RetCode: 0 Status: OK PackageFile: mtbls2_1.25.0.tar.gz PackageFileSize: 183.1 MiB