Package: prostateCancerVarambally Version: 1.23.0 Command: /home/biocbuild/bbs-3.15-data-experiment/R/bin/R CMD build --keep-empty-dirs --no-resave-data prostateCancerVarambally StartedAt: 2022-02-17 06:12:59 -0500 (Thu, 17 Feb 2022) EndedAt: 2022-02-17 06:13:09 -0500 (Thu, 17 Feb 2022) EllapsedTime: 9.7 seconds RetCode: 0 Status: OK PackageFile: prostateCancerVarambally_1.23.0.tar.gz PackageFileSize: 5.696 MiB