Package: EuPathDB Version: 1.0.1 Command: /home/biocbuild/bbs-3.16-bioc/R/bin/R CMD build --keep-empty-dirs --no-resave-data EuPathDB StartedAt: 2023-04-12 03:01:54 -0400 (Wed, 12 Apr 2023) EndedAt: 2023-04-12 03:02:58 -0400 (Wed, 12 Apr 2023) EllapsedTime: 63.8 seconds RetCode: 1 Status: ERROR PackageFile: None PackageFileSize: NA