Package: EuPathDB Version: 1.0.1 Command: /home/biocbuild/bbs-3.16-bioc/R/bin/R CMD INSTALL EuPathDB StartedAt: 2023-04-12 03:00:40 -0400 (Wed, 12 Apr 2023) EndedAt: 2023-04-12 03:01:34 -0400 (Wed, 12 Apr 2023) EllapsedTime: 54.0 seconds RetCode: 0 Status: OK