Package: JASPAR2022 Version: 0.99.7 Command: /home/biocbuild/bbs-3.16-bioc/R/bin/R CMD build --keep-empty-dirs --no-resave-data JASPAR2022 StartedAt: 2023-04-12 03:02:21 -0400 (Wed, 12 Apr 2023) EndedAt: 2023-04-12 03:02:52 -0400 (Wed, 12 Apr 2023) EllapsedTime: 31.0 seconds RetCode: 0 Status: OK PackageFile: JASPAR2022_0.99.7.tar.gz PackageFileSize: 263.8 KiB