Welcome to mirrors.dotsrc.org

All our mirrors of open source software are available via http, https, ftp and an onion service. More information about our mirrors including statistics and contact information is available on our mirror info pages.

For information about dotsrc.org and our other services please go to our website.

Index of /bioconductor/checkResults/3.16/data-experiment-LATEST/MicrobiomeBenchmarkData/raw-results/nebbiolo2/

File Name  ↓ File Size  ↓ Date  ↓ 
--
932 B2023-04-11 18:50:27
463 B2023-04-11 18:50:27
3.4 KiB2023-04-11 18:50:27
476 B2023-04-11 18:50:27
1008 B2023-04-11 18:50:27
290 B2023-04-11 18:50:27