Package: hapmapsnp5 Version: 1.40.0 Command: /home/biocbuild/bbs-3.16-bioc/R/bin/R CMD build --keep-empty-dirs --no-resave-data hapmapsnp5 StartedAt: 2023-04-11 10:37:17 -0400 (Tue, 11 Apr 2023) EndedAt: 2023-04-11 10:38:43 -0400 (Tue, 11 Apr 2023) EllapsedTime: 86.3 seconds RetCode: 0 Status: OK PackageFile: hapmapsnp5_1.40.0.tar.gz PackageFileSize: 59.41 MiB