Package: hapmapsnp5 Version: 1.40.0 Command: /home/biocbuild/bbs-3.16-bioc/R/bin/R CMD INSTALL hapmapsnp5 StartedAt: 2023-04-11 10:00:23 -0400 (Tue, 11 Apr 2023) EndedAt: 2023-04-11 10:00:30 -0400 (Tue, 11 Apr 2023) EllapsedTime: 7.3 seconds RetCode: 0 Status: OK