Package: scanMiRData Version: 1.4.0 Command: /home/biocbuild/bbs-3.16-bioc/R/bin/R CMD build --keep-empty-dirs --no-resave-data scanMiRData StartedAt: 2023-04-11 10:51:52 -0400 (Tue, 11 Apr 2023) EndedAt: 2023-04-11 10:52:14 -0400 (Tue, 11 Apr 2023) EllapsedTime: 21.3 seconds RetCode: 0 Status: OK PackageFile: scanMiRData_1.4.0.tar.gz PackageFileSize: 16.14 MiB