git_url: https://git.bioconductor.org/packages/AffymetrixDataTestFiles git_branch: RELEASE_3_17 git_last_commit: 47f6291 git_last_commit_date: 2023-04-25 09:48:43 -0400 (Tue, 25 Apr 2023) Package: AffymetrixDataTestFiles Version: 0.38.0 Maintainer: Henrik Bengtsson MaintainerEmail: hb at stat.berkeley.edu