git_url: https://git.bioconductor.org/packages/AssessORFData git_branch: RELEASE_3_17 git_last_commit: 574c74a git_last_commit_date: 2023-04-25 10:46:20 -0400 (Tue, 25 Apr 2023) Package: AssessORFData Version: 1.18.0 Maintainer: Deepank Korandla MaintainerEmail: dkorandl at alumni.cmu.edu