git_url: https://git.bioconductor.org/packages/ChIPXpressData git_branch: RELEASE_3_17 git_last_commit: 1e371e7 git_last_commit_date: 2023-04-25 10:35:16 -0400 (Tue, 25 Apr 2023) Package: ChIPXpressData Version: 1.38.0 Maintainer: George Wu MaintainerEmail: gewu at jhsph.edu