Package: ChIPXpressData Version: 1.38.0 Command: /home/biocbuild/bbs-3.17-bioc/R/bin/R CMD build --keep-empty-dirs --no-resave-data ChIPXpressData StartedAt: 2023-10-12 10:17:21 -0400 (Thu, 12 Oct 2023) EndedAt: 2023-10-12 10:23:13 -0400 (Thu, 12 Oct 2023) EllapsedTime: 351.8 seconds RetCode: 0 Status: OK PackageFile: ChIPXpressData_1.38.0.tar.gz PackageFileSize: 3.171 GiB