Package: ChIPXpressData Version: 1.38.0 Command: /home/biocbuild/bbs-3.17-bioc/R/bin/R CMD INSTALL ChIPXpressData StartedAt: 2023-10-12 10:01:10 -0400 (Thu, 12 Oct 2023) EndedAt: 2023-10-12 10:01:30 -0400 (Thu, 12 Oct 2023) EllapsedTime: 19.5 seconds RetCode: 0 Status: OK