Package: FlowSorted.Blood.450k Version: 1.38.0 Command: /home/biocbuild/bbs-3.17-bioc/R/bin/R CMD build --keep-empty-dirs --no-resave-data FlowSorted.Blood.450k StartedAt: 2023-10-12 10:26:31 -0400 (Thu, 12 Oct 2023) EndedAt: 2023-10-12 10:28:59 -0400 (Thu, 12 Oct 2023) EllapsedTime: 147.6 seconds RetCode: 0 Status: OK PackageFile: FlowSorted.Blood.450k_1.38.0.tar.gz PackageFileSize: 167.8 MiB