Package: FlowSorted.Blood.EPIC Version: 2.4.2 Command: /home/biocbuild/bbs-3.17-bioc/R/bin/R CMD build --keep-empty-dirs --no-resave-data FlowSorted.Blood.EPIC StartedAt: 2023-10-12 10:26:38 -0400 (Thu, 12 Oct 2023) EndedAt: 2023-10-12 10:33:05 -0400 (Thu, 12 Oct 2023) EllapsedTime: 387.2 seconds RetCode: 0 Status: OK PackageFile: FlowSorted.Blood.EPIC_2.4.2.tar.gz PackageFileSize: 96.88 KiB